BEGIN:VCALENDAR
VERSION:2.0
PRODID:-//Sagrada Geração - ECPv6.15.20//NONSGML v1.0//EN
CALSCALE:GREGORIAN
METHOD:PUBLISH
X-ORIGINAL-URL:https://orquestrasagradageracao.org
X-WR-CALDESC:Eventos para Sagrada Geração
REFRESH-INTERVAL;VALUE=DURATION:PT1H
X-Robots-Tag:noindex
X-PUBLISHED-TTL:PT1H
BEGIN:VTIMEZONE
TZID:America/Sao_Paulo
BEGIN:STANDARD
TZOFFSETFROM:-0300
TZOFFSETTO:-0300
TZNAME:-03
DTSTART:20220101T000000
END:STANDARD
END:VTIMEZONE
BEGIN:VEVENT
DTSTART;TZID=America/Sao_Paulo:20231105T090000
DTEND;TZID=America/Sao_Paulo:20231105T113000
DTSTAMP:20260425T175101
CREATED:20230831T030838Z
LAST-MODIFIED:20230831T030838Z
UID:1280-1699174800-1699183800@orquestrasagradageracao.org
SUMMARY:Aulas dia 05 de Novembro
DESCRIPTION:Aulas confirmadas:\nViolino; Violoncelo; Flauta doce e Flauta Transversal.
URL:https://orquestrasagradageracao.org/agenda/aulas-dia-05-de-novembro/
LOCATION:Parque Jacques Cousteau\, • Rua Augusto José dos Santos\, 590 bairro Betânia\, Belo Horizonte\, Minas Gerais\, 30580-100\, Brasil
CATEGORIES:Aula
END:VEVENT
BEGIN:VEVENT
DTSTART;TZID=America/Sao_Paulo:20231112T090000
DTEND;TZID=America/Sao_Paulo:20231112T113000
DTSTAMP:20260425T175101
CREATED:20230831T031053Z
LAST-MODIFIED:20230831T031053Z
UID:1284-1699779600-1699788600@orquestrasagradageracao.org
SUMMARY:Aulas dia 12 de Novembro
DESCRIPTION:Aulas confirmadas:\nViolino; Violoncelo; Flauta doce e Flauta Transversal; Piano.
URL:https://orquestrasagradageracao.org/agenda/aulas-dia-12-de-novembro/
LOCATION:Parque Jacques Cousteau\, • Rua Augusto José dos Santos\, 590 bairro Betânia\, Belo Horizonte\, Minas Gerais\, 30580-100\, Brasil
CATEGORIES:Aula
END:VEVENT
BEGIN:VEVENT
DTSTART;TZID=America/Sao_Paulo:20231119T090000
DTEND;TZID=America/Sao_Paulo:20231119T113000
DTSTAMP:20260425T175101
CREATED:20230831T031413Z
LAST-MODIFIED:20230831T031413Z
UID:1290-1700384400-1700393400@orquestrasagradageracao.org
SUMMARY:Aulas dia 19 de Novembro
DESCRIPTION:Aulas confirmadas: \nViolino; Violoncelo; Piano.
URL:https://orquestrasagradageracao.org/agenda/aulas-dia-19-de-novembro/
LOCATION:Parque Jacques Cousteau\, • Rua Augusto José dos Santos\, 590 bairro Betânia\, Belo Horizonte\, Minas Gerais\, 30580-100\, Brasil
CATEGORIES:Aula
END:VEVENT
BEGIN:VEVENT
DTSTART;TZID=America/Sao_Paulo:20231126T090000
DTEND;TZID=America/Sao_Paulo:20231126T113000
DTSTAMP:20260425T175101
CREATED:20230831T031533Z
LAST-MODIFIED:20230831T031533Z
UID:1292-1700989200-1700998200@orquestrasagradageracao.org
SUMMARY:Aulas dia 26 de Novembro
DESCRIPTION:Aulas confirmadas:\nViolino; Violoncelo; Flauta doce e Flauta Transversal; Piano.
URL:https://orquestrasagradageracao.org/agenda/aulas-dia-26-de-novembro/
LOCATION:Parque Jacques Cousteau\, • Rua Augusto José dos Santos\, 590 bairro Betânia\, Belo Horizonte\, Minas Gerais\, 30580-100\, Brasil
CATEGORIES:Aula
END:VEVENT
END:VCALENDAR