BEGIN:VCALENDAR
VERSION:2.0
PRODID:-//Sagrada Geração - ECPv6.15.20//NONSGML v1.0//EN
CALSCALE:GREGORIAN
METHOD:PUBLISH
X-WR-CALNAME:Sagrada Geração
X-ORIGINAL-URL:https://orquestrasagradageracao.org
X-WR-CALDESC:Eventos para Sagrada Geração
REFRESH-INTERVAL;VALUE=DURATION:PT1H
X-Robots-Tag:noindex
X-PUBLISHED-TTL:PT1H
BEGIN:VTIMEZONE
TZID:America/Sao_Paulo
BEGIN:STANDARD
TZOFFSETFROM:-0300
TZOFFSETTO:-0300
TZNAME:-03
DTSTART:20230101T000000
END:STANDARD
END:VTIMEZONE
BEGIN:VEVENT
DTSTART;TZID=America/Sao_Paulo:20241005T090000
DTEND;TZID=America/Sao_Paulo:20241005T113000
DTSTAMP:20260425T001645
CREATED:20240721T194933Z
LAST-MODIFIED:20240721T194933Z
UID:2086-1728118800-1728127800@orquestrasagradageracao.org
SUMMARY:6° Aula Teórica
DESCRIPTION:6° Aula Teórica
URL:https://orquestrasagradageracao.org/agenda/6-aula-teorica/
CATEGORIES:Aula
END:VEVENT
BEGIN:VEVENT
DTSTART;TZID=America/Sao_Paulo:20241006T090000
DTEND;TZID=America/Sao_Paulo:20241006T113000
DTSTAMP:20260425T001645
CREATED:20240721T195042Z
LAST-MODIFIED:20240721T195042Z
UID:2088-1728205200-1728214200@orquestrasagradageracao.org
SUMMARY:9° Aula Presencial e 8° Ensaio da Orquestra Didática e 3° Oficina Musical
DESCRIPTION:9° Aula Presencial e 8° Ensaio da Orquestra Didática e 3° Oficina Musical
URL:https://orquestrasagradageracao.org/agenda/9-aula-presencial-e-8-ensaio-da-orquestra-didatica-e-3-oficina-musical/
CATEGORIES:Aula,Ensaio
END:VEVENT
BEGIN:VEVENT
DTSTART;TZID=America/Sao_Paulo:20241020T090000
DTEND;TZID=America/Sao_Paulo:20241020T133000
DTSTAMP:20260425T001645
CREATED:20240721T195451Z
LAST-MODIFIED:20240721T195451Z
UID:2094-1729414800-1729431000@orquestrasagradageracao.org
SUMMARY:10° Aula Presencial e 9° Ensaio da Orquestra Didática
DESCRIPTION:10° Aula Presencial e 9° Ensaio da Orquestra Didática
URL:https://orquestrasagradageracao.org/agenda/10-aula-presencial-e-9-ensaio-da-orquestra-didatica/
CATEGORIES:Aula,Ensaio
END:VEVENT
BEGIN:VEVENT
DTSTART;TZID=America/Sao_Paulo:20241026T080000
DTEND;TZID=America/Sao_Paulo:20241026T170000
DTSTAMP:20260425T001645
CREATED:20240721T195544Z
LAST-MODIFIED:20240721T195544Z
UID:2096-1729929600-1729962000@orquestrasagradageracao.org
SUMMARY:7° Aula Teórica
DESCRIPTION:7° Aula Teórica
URL:https://orquestrasagradageracao.org/agenda/7-aula-teorica/
CATEGORIES:Aula
END:VEVENT
BEGIN:VEVENT
DTSTART;TZID=America/Sao_Paulo:20241027T090000
DTEND;TZID=America/Sao_Paulo:20241027T113000
DTSTAMP:20260425T001645
CREATED:20240721T195644Z
LAST-MODIFIED:20240721T195644Z
UID:2098-1730019600-1730028600@orquestrasagradageracao.org
SUMMARY:11° Aula Presencial e 10° Ensaio da Orquestra Didática
DESCRIPTION:11° Aula Presencial e 10° Ensaio da Orquestra Didática
URL:https://orquestrasagradageracao.org/agenda/11-aula-presencial-e-10-ensaio-da-orquestra-didatica/
CATEGORIES:Aula,Ensaio
END:VEVENT
END:VCALENDAR