BEGIN:VCALENDAR
VERSION:2.0
PRODID:-//Sagrada Geração - ECPv6.15.20//NONSGML v1.0//EN
CALSCALE:GREGORIAN
METHOD:PUBLISH
X-ORIGINAL-URL:https://orquestrasagradageracao.org
X-WR-CALDESC:Eventos para Sagrada Geração
REFRESH-INTERVAL;VALUE=DURATION:PT1H
X-Robots-Tag:noindex
X-PUBLISHED-TTL:PT1H
BEGIN:VTIMEZONE
TZID:America/Sao_Paulo
BEGIN:STANDARD
TZOFFSETFROM:-0300
TZOFFSETTO:-0300
TZNAME:-03
DTSTART:20240101T000000
END:STANDARD
END:VTIMEZONE
BEGIN:VEVENT
DTSTART;TZID=America/Sao_Paulo:20250302T093000
DTEND;TZID=America/Sao_Paulo:20250302T113000
DTSTAMP:20260424T223244
CREATED:20250316T200548Z
LAST-MODIFIED:20250316T200548Z
UID:2549-1740907800-1740915000@orquestrasagradageracao.org
SUMMARY:3º Ensaio da Orquestra Didática
DESCRIPTION:3º Ensaio da Orquestra Didática
URL:https://orquestrasagradageracao.org/agenda/3o-ensaio-da-orquestra-didatica/
CATEGORIES:Ensaio
END:VEVENT
BEGIN:VEVENT
DTSTART;TZID=America/Sao_Paulo:20250309T093000
DTEND;TZID=America/Sao_Paulo:20250309T113000
DTSTAMP:20260424T223244
CREATED:20250316T200913Z
LAST-MODIFIED:20250316T200913Z
UID:2555-1741512600-1741519800@orquestrasagradageracao.org
SUMMARY:4º Ensaio da Orquestra Didática
DESCRIPTION:4º Ensaio da Orquestra Didática
URL:https://orquestrasagradageracao.org/agenda/4o-ensaio-da-orquestra-didatica/
CATEGORIES:Ensaio
END:VEVENT
BEGIN:VEVENT
DTSTART;TZID=America/Sao_Paulo:20250316T093000
DTEND;TZID=America/Sao_Paulo:20250316T113000
DTSTAMP:20260424T223244
CREATED:20250316T201353Z
LAST-MODIFIED:20250316T201353Z
UID:2563-1742117400-1742124600@orquestrasagradageracao.org
SUMMARY:5º Ensaio da Orquestra Didática
DESCRIPTION:5º Ensaio da Orquestra Didática
URL:https://orquestrasagradageracao.org/agenda/5o-ensaio-da-orquestra-didatica/
CATEGORIES:Ensaio
END:VEVENT
BEGIN:VEVENT
DTSTART;TZID=America/Sao_Paulo:20250323T093000
DTEND;TZID=America/Sao_Paulo:20250323T113000
DTSTAMP:20260424T223244
CREATED:20250316T201548Z
LAST-MODIFIED:20250316T201548Z
UID:2565-1742722200-1742729400@orquestrasagradageracao.org
SUMMARY:6º Ensaio da Orquestra Didática
DESCRIPTION:6º Ensaio da Orquestra Didática
URL:https://orquestrasagradageracao.org/agenda/6o-ensaio-da-orquestra-didatica/
CATEGORIES:Ensaio
END:VEVENT
BEGIN:VEVENT
DTSTART;TZID=America/Sao_Paulo:20250330T093000
DTEND;TZID=America/Sao_Paulo:20250330T113000
DTSTAMP:20260424T223244
CREATED:20250316T202223Z
LAST-MODIFIED:20250316T202223Z
UID:2576-1743327000-1743334200@orquestrasagradageracao.org
SUMMARY:7º Ensaio da Orquestra Didática
DESCRIPTION:7º Ensaio da Orquestra Didática
URL:https://orquestrasagradageracao.org/agenda/7o-ensaio-da-orquestra-didatica/
CATEGORIES:Ensaio
END:VEVENT
END:VCALENDAR