BEGIN:VCALENDAR
VERSION:2.0
PRODID:-//Sagrada Geração - ECPv6.15.20//NONSGML v1.0//EN
CALSCALE:GREGORIAN
METHOD:PUBLISH
X-ORIGINAL-URL:https://orquestrasagradageracao.org
X-WR-CALDESC:Eventos para Sagrada Geração
REFRESH-INTERVAL;VALUE=DURATION:PT1H
X-Robots-Tag:noindex
X-PUBLISHED-TTL:PT1H
BEGIN:VTIMEZONE
TZID:America/Sao_Paulo
BEGIN:STANDARD
TZOFFSETFROM:-0300
TZOFFSETTO:-0300
TZNAME:-03
DTSTART:20240101T000000
END:STANDARD
END:VTIMEZONE
BEGIN:VEVENT
DTSTART;TZID=America/Sao_Paulo:20250406T093000
DTEND;TZID=America/Sao_Paulo:20250406T113000
DTSTAMP:20260424T203426
CREATED:20250316T205055Z
LAST-MODIFIED:20250316T205055Z
UID:2582-1743931800-1743939000@orquestrasagradageracao.org
SUMMARY:8º Ensaio da Orquestra Didática
DESCRIPTION:8º Ensaio da Orquestra Didática
URL:https://orquestrasagradageracao.org/agenda/8o-ensaio-da-orquestra-didatica/
CATEGORIES:Ensaio
END:VEVENT
BEGIN:VEVENT
DTSTART;TZID=America/Sao_Paulo:20250413T093000
DTEND;TZID=America/Sao_Paulo:20250413T113000
DTSTAMP:20260424T203426
CREATED:20250316T205523Z
LAST-MODIFIED:20250316T205826Z
UID:2590-1744536600-1744543800@orquestrasagradageracao.org
SUMMARY:9º Ensaio da Orquestra Didática
DESCRIPTION:9º Ensaio da Orquestra Didática
URL:https://orquestrasagradageracao.org/agenda/9o-ensaio-da-orquestra-didatica/
CATEGORIES:Ensaio
END:VEVENT
BEGIN:VEVENT
DTSTART;TZID=America/Sao_Paulo:20250420T093000
DTEND;TZID=America/Sao_Paulo:20250420T113000
DTSTAMP:20260424T203426
CREATED:20250316T210241Z
LAST-MODIFIED:20250316T210241Z
UID:2598-1745141400-1745148600@orquestrasagradageracao.org
SUMMARY:10º Ensaio da Orquestra Didática
DESCRIPTION:10º Ensaio da Orquestra Didática
URL:https://orquestrasagradageracao.org/agenda/10o-ensaio-da-orquestra-didatica/
CATEGORIES:Ensaio
END:VEVENT
BEGIN:VEVENT
DTSTART;TZID=America/Sao_Paulo:20250427T093000
DTEND;TZID=America/Sao_Paulo:20250427T113000
DTSTAMP:20260424T203426
CREATED:20250316T210522Z
LAST-MODIFIED:20250316T210522Z
UID:2604-1745746200-1745753400@orquestrasagradageracao.org
SUMMARY:11º Ensaio da Orquestra Didática
DESCRIPTION:11º Ensaio da Orquestra Didática
URL:https://orquestrasagradageracao.org/agenda/11o-ensaio-da-orquestra-didatica/
CATEGORIES:Ensaio
END:VEVENT
END:VCALENDAR