BEGIN:VCALENDAR
VERSION:2.0
PRODID:-//Sagrada Geração - ECPv6.15.20//NONSGML v1.0//EN
CALSCALE:GREGORIAN
METHOD:PUBLISH
X-ORIGINAL-URL:https://orquestrasagradageracao.org
X-WR-CALDESC:Eventos para Sagrada Geração
REFRESH-INTERVAL;VALUE=DURATION:PT1H
X-Robots-Tag:noindex
X-PUBLISHED-TTL:PT1H
BEGIN:VTIMEZONE
TZID:America/Sao_Paulo
BEGIN:STANDARD
TZOFFSETFROM:-0300
TZOFFSETTO:-0300
TZNAME:-03
DTSTART:20230101T000000
END:STANDARD
END:VTIMEZONE
BEGIN:VEVENT
DTSTART;VALUE=DATE:20240406
DTEND;VALUE=DATE:20240407
DTSTAMP:20260425T120529
CREATED:20240130T184117Z
LAST-MODIFIED:20240130T184117Z
UID:1563-1712361600-1712447999@orquestrasagradageracao.org
SUMMARY:Pesquisa de Satisfação do Público Atendido.
DESCRIPTION:Pesquisa de satisfação do público atendido.
URL:https://orquestrasagradageracao.org/agenda/pesquisa-de-satisfacao-do-publico-atendido/
CATEGORIES:Outros
END:VEVENT
BEGIN:VEVENT
DTSTART;TZID=America/Sao_Paulo:20240407T090000
DTEND;TZID=America/Sao_Paulo:20240407T113000
DTSTAMP:20260425T120529
CREATED:20240130T190332Z
LAST-MODIFIED:20240130T190332Z
UID:1596-1712480400-1712489400@orquestrasagradageracao.org
SUMMARY:Reunião Executiva e Administrativa
DESCRIPTION:Reunião executiva e administrativa.
URL:https://orquestrasagradageracao.org/agenda/reuniao-executiva-e-administrativa/
LOCATION:Escola Municipal Mestre Ataíde\, • Rua Augusto José dos Santos\, 560 bairro Betânia\, Belo Horizonte\, Minas Gerais\, 30580-100\, Brasil
CATEGORIES:Outros
END:VEVENT
END:VCALENDAR