BEGIN:VCALENDAR
VERSION:2.0
PRODID:-//Sagrada Geração - ECPv6.15.20//NONSGML v1.0//EN
CALSCALE:GREGORIAN
METHOD:PUBLISH
X-WR-CALNAME:Sagrada Geração
X-ORIGINAL-URL:https://orquestrasagradageracao.org
X-WR-CALDESC:Eventos para Sagrada Geração
REFRESH-INTERVAL;VALUE=DURATION:PT1H
X-Robots-Tag:noindex
X-PUBLISHED-TTL:PT1H
BEGIN:VTIMEZONE
TZID:America/Sao_Paulo
BEGIN:STANDARD
TZOFFSETFROM:-0300
TZOFFSETTO:-0300
TZNAME:-03
DTSTART:20230101T000000
END:STANDARD
END:VTIMEZONE
BEGIN:VEVENT
DTSTART;VALUE=DATE:20240726
DTEND;VALUE=DATE:20240727
DTSTAMP:20260424T094418
CREATED:20240721T191904Z
LAST-MODIFIED:20240721T191904Z
UID:2040-1721952000-1722038399@orquestrasagradageracao.org
SUMMARY:Encerramento de Inscrições e Divulgação da Lista de Inscritos no Edital 2/2024
DESCRIPTION:Encerramento de Inscrições e Divulgação da Lista de Inscritos no Edital 2/2024
URL:https://orquestrasagradageracao.org/agenda/encerramento-de-inscricoes-e-divulgacao-da-lista-de-inscritos-no-edital-2-2024/
CATEGORIES:Outros
END:VEVENT
BEGIN:VEVENT
DTSTART;TZID=America/Sao_Paulo:20240714T090000
DTEND;TZID=America/Sao_Paulo:20240714T113000
DTSTAMP:20260424T094418
CREATED:20240130T201550Z
LAST-MODIFIED:20240130T201629Z
UID:1642-1720947600-1720956600@orquestrasagradageracao.org
SUMMARY:Inscrições 2º Semestre 2024
DESCRIPTION:Início do processo de inscrição segundo semestre.
URL:https://orquestrasagradageracao.org/agenda/inscricoes-2o-semestre-2024/
CATEGORIES:Outros
END:VEVENT
BEGIN:VEVENT
DTSTART;TZID=America/Sao_Paulo:20240714T090000
DTEND;TZID=America/Sao_Paulo:20240714T113000
DTSTAMP:20260424T094418
CREATED:20240130T201212Z
LAST-MODIFIED:20240130T201212Z
UID:1638-1720947600-1720956600@orquestrasagradageracao.org
SUMMARY:Segunda Apresentação - Encerramento
DESCRIPTION:Segunda Apresentação Inverno – Encerramento Semestre.
URL:https://orquestrasagradageracao.org/agenda/segunda-apresentacao-encerramento/
LOCATION:Escola Municipal Mestre Ataíde\, • Rua Augusto José dos Santos\, 560 bairro Betânia\, Belo Horizonte\, Minas Gerais\, 30580-100\, Brasil
CATEGORIES:Apresentação
END:VEVENT
BEGIN:VEVENT
DTSTART;VALUE=DATE:20240714
DTEND;VALUE=DATE:20240715
DTSTAMP:20260424T094418
CREATED:20240130T201349Z
LAST-MODIFIED:20240130T201349Z
UID:1640-1720915200-1721001599@orquestrasagradageracao.org
SUMMARY:Prestação de Contas
DESCRIPTION:Publicação de Prestação de Contas no site.
URL:https://orquestrasagradageracao.org/agenda/prestacao-de-contas/
CATEGORIES:Outros
END:VEVENT
BEGIN:VEVENT
DTSTART;TZID=America/Sao_Paulo:20240707T090000
DTEND;TZID=America/Sao_Paulo:20240707T113000
DTSTAMP:20260424T094418
CREATED:20240130T200456Z
LAST-MODIFIED:20240130T200456Z
UID:1632-1720342800-1720351800@orquestrasagradageracao.org
SUMMARY:Aula Presencial
DESCRIPTION:Aula presencial.
URL:https://orquestrasagradageracao.org/agenda/aula-presencial-17/
LOCATION:Escola Municipal Mestre Ataíde\, • Rua Augusto José dos Santos\, 560 bairro Betânia\, Belo Horizonte\, Minas Gerais\, 30580-100\, Brasil
CATEGORIES:Aula
END:VEVENT
BEGIN:VEVENT
DTSTART;TZID=America/Sao_Paulo:20240630T090000
DTEND;TZID=America/Sao_Paulo:20240630T113000
DTSTAMP:20260424T094418
CREATED:20240130T200401Z
LAST-MODIFIED:20240130T200401Z
UID:1630-1719738000-1719747000@orquestrasagradageracao.org
SUMMARY:Aula Presencial
DESCRIPTION:Aula presencial.
URL:https://orquestrasagradageracao.org/agenda/aula-presencial-16/
LOCATION:Escola Municipal Mestre Ataíde\, • Rua Augusto José dos Santos\, 560 bairro Betânia\, Belo Horizonte\, Minas Gerais\, 30580-100\, Brasil
CATEGORIES:Aula
END:VEVENT
BEGIN:VEVENT
DTSTART;TZID=America/Sao_Paulo:20240629T090000
DTEND;TZID=America/Sao_Paulo:20240629T113000
DTSTAMP:20260424T094418
CREATED:20240130T191051Z
LAST-MODIFIED:20240130T191051Z
UID:1608-1719651600-1719660600@orquestrasagradageracao.org
SUMMARY:Aula Virtual de Teoria
DESCRIPTION:Aula virtual de teoria.
URL:https://orquestrasagradageracao.org/agenda/aula-virtual-de-teoria-7/
CATEGORIES:Aula
END:VEVENT
BEGIN:VEVENT
DTSTART;VALUE=DATE:20240629
DTEND;VALUE=DATE:20240630
DTSTAMP:20260424T094418
CREATED:20240721T191713Z
LAST-MODIFIED:20240721T192319Z
UID:2038-1719619200-1719705599@orquestrasagradageracao.org
SUMMARY:Abertura Inscrição Alunos Novatos Edital 2/2024
DESCRIPTION:Abertura Inscrição Alunos Novatos Edital 2/2024
URL:https://orquestrasagradageracao.org/agenda/abertura-inscricao-alunos-novatos-edital-2-2024/
CATEGORIES:Outros
END:VEVENT
BEGIN:VEVENT
DTSTART;VALUE=DATE:20240629
DTEND;VALUE=DATE:20240630
DTSTAMP:20260424T094418
CREATED:20240130T200733Z
LAST-MODIFIED:20240130T200733Z
UID:1636-1719619200-1719705599@orquestrasagradageracao.org
SUMMARY:Publicação de Edital - 2º Semestre 2024
DESCRIPTION:Publicação de Edital – 2º Semestre 2024
URL:https://orquestrasagradageracao.org/agenda/publicacao-de-edital-2o-semestre-2024/
CATEGORIES:Outros
END:VEVENT
BEGIN:VEVENT
DTSTART;TZID=America/Sao_Paulo:20240623T090000
DTEND;TZID=America/Sao_Paulo:20240623T113000
DTSTAMP:20260424T094418
CREATED:20240130T200308Z
LAST-MODIFIED:20240130T200308Z
UID:1628-1719133200-1719142200@orquestrasagradageracao.org
SUMMARY:Aula Presencial
DESCRIPTION:Aula presencial.
URL:https://orquestrasagradageracao.org/agenda/aula-presencial-15/
LOCATION:Escola Municipal Mestre Ataíde\, • Rua Augusto José dos Santos\, 560 bairro Betânia\, Belo Horizonte\, Minas Gerais\, 30580-100\, Brasil
CATEGORIES:Aula
END:VEVENT
BEGIN:VEVENT
DTSTART;VALUE=DATE:20240621
DTEND;VALUE=DATE:20240622
DTSTAMP:20260424T094418
CREATED:20240721T191533Z
LAST-MODIFIED:20240721T191533Z
UID:2036-1718928000-1719014399@orquestrasagradageracao.org
SUMMARY:1° Reunião de GT de Projetos LMIC e Aldir Blanc
DESCRIPTION:1° Reunião de GT de Projetos LMIC e Aldir Blanc
URL:https://orquestrasagradageracao.org/agenda/1-reuniao-de-gt-de-projetos-lmic-e-aldir-blanc/
CATEGORIES:Outros
END:VEVENT
BEGIN:VEVENT
DTSTART;VALUE=DATE:20240621
DTEND;VALUE=DATE:20240622
DTSTAMP:20260424T094418
CREATED:20240721T191414Z
LAST-MODIFIED:20240721T191414Z
UID:2034-1718928000-1719014399@orquestrasagradageracao.org
SUMMARY:1ª Reunião Administrativa
DESCRIPTION:1ª Reunião Administrativa
URL:https://orquestrasagradageracao.org/agenda/1a-reuniao-administrativa/
CATEGORIES:Outros
END:VEVENT
BEGIN:VEVENT
DTSTART;VALUE=DATE:20240621
DTEND;VALUE=DATE:20240622
DTSTAMP:20260424T094418
CREATED:20240721T191243Z
LAST-MODIFIED:20240721T191243Z
UID:2032-1718928000-1719014399@orquestrasagradageracao.org
SUMMARY:Abertura Inscrição de Alunos Veteranos Edital 2/2024
DESCRIPTION:Abertura Inscrição de Alunos Veteranos Edital 2/2024
URL:https://orquestrasagradageracao.org/agenda/abertura-inscricao-de-alunos-veteranos-edital-2-2024/
CATEGORIES:Outros
END:VEVENT
BEGIN:VEVENT
DTSTART;TZID=America/Sao_Paulo:20240616T090000
DTEND;TZID=America/Sao_Paulo:20240616T113000
DTSTAMP:20260424T094418
CREATED:20240130T200141Z
LAST-MODIFIED:20240130T200141Z
UID:1626-1718528400-1718537400@orquestrasagradageracao.org
SUMMARY:Aula Presencial
DESCRIPTION:Aula presencial.
URL:https://orquestrasagradageracao.org/agenda/aula-presencial-14/
LOCATION:Escola Municipal Mestre Ataíde\, • Rua Augusto José dos Santos\, 560 bairro Betânia\, Belo Horizonte\, Minas Gerais\, 30580-100\, Brasil
CATEGORIES:Aula
END:VEVENT
BEGIN:VEVENT
DTSTART;TZID=America/Sao_Paulo:20240615T090000
DTEND;TZID=America/Sao_Paulo:20240615T113000
DTSTAMP:20260424T094418
CREATED:20240130T200606Z
LAST-MODIFIED:20240130T200606Z
UID:1634-1718442000-1718451000@orquestrasagradageracao.org
SUMMARY:Reunião Executiva e Administrativa
DESCRIPTION:Reunião Executiva e Administrativa.
URL:https://orquestrasagradageracao.org/agenda/reuniao-executiva-e-administrativa-2/
CATEGORIES:Outros
END:VEVENT
BEGIN:VEVENT
DTSTART;TZID=America/Sao_Paulo:20240615T090000
DTEND;TZID=America/Sao_Paulo:20240615T113000
DTSTAMP:20260424T094418
CREATED:20240130T190950Z
LAST-MODIFIED:20240130T190950Z
UID:1606-1718442000-1718451000@orquestrasagradageracao.org
SUMMARY:Aula Virtual de Teoria
DESCRIPTION:Aula virtual de teoria.
URL:https://orquestrasagradageracao.org/agenda/aula-virtual-de-teoria-6/
CATEGORIES:Aula
END:VEVENT
BEGIN:VEVENT
DTSTART;TZID=America/Sao_Paulo:20240609T090000
DTEND;TZID=America/Sao_Paulo:20240609T113000
DTSTAMP:20260424T094418
CREATED:20240130T200044Z
LAST-MODIFIED:20240130T200044Z
UID:1624-1717923600-1717932600@orquestrasagradageracao.org
SUMMARY:Aula Presencial
DESCRIPTION:Aula presencial.
URL:https://orquestrasagradageracao.org/agenda/aula-presencial-13/
LOCATION:Escola Municipal Mestre Ataíde\, • Rua Augusto José dos Santos\, 560 bairro Betânia\, Belo Horizonte\, Minas Gerais\, 30580-100\, Brasil
CATEGORIES:Aula
END:VEVENT
BEGIN:VEVENT
DTSTART;TZID=America/Sao_Paulo:20240602T090000
DTEND;TZID=America/Sao_Paulo:20240602T113000
DTSTAMP:20260424T094418
CREATED:20240130T200000Z
LAST-MODIFIED:20240130T200000Z
UID:1622-1717318800-1717327800@orquestrasagradageracao.org
SUMMARY:Aula Presencial
DESCRIPTION:Aula presencial.
URL:https://orquestrasagradageracao.org/agenda/aula-presencial-12/
LOCATION:Escola Municipal Mestre Ataíde\, • Rua Augusto José dos Santos\, 560 bairro Betânia\, Belo Horizonte\, Minas Gerais\, 30580-100\, Brasil
CATEGORIES:Aula
END:VEVENT
BEGIN:VEVENT
DTSTART;TZID=America/Sao_Paulo:20240601T090000
DTEND;TZID=America/Sao_Paulo:20240601T113000
DTSTAMP:20260424T094418
CREATED:20240130T190847Z
LAST-MODIFIED:20240130T190847Z
UID:1604-1717232400-1717241400@orquestrasagradageracao.org
SUMMARY:Aula Virtual de Teoria
DESCRIPTION:Aula virtual de teoria.
URL:https://orquestrasagradageracao.org/agenda/aula-virtual-de-teoria-5/
CATEGORIES:Aula
END:VEVENT
BEGIN:VEVENT
DTSTART;TZID=America/Sao_Paulo:20240526T090000
DTEND;TZID=America/Sao_Paulo:20240526T120000
DTSTAMP:20260424T094418
CREATED:20240130T195214Z
LAST-MODIFIED:20240521T003041Z
UID:1620-1716714000-1716724800@orquestrasagradageracao.org
SUMMARY:Apresentação Concerto de Outono 2024
DESCRIPTION:Ensaio Aberto – 4 Estações – Apresentação dos alunos do projeto no concerto de outono. Será realizado no Teatro de Arena do Parque Jacques Cousteau.
URL:https://orquestrasagradageracao.org/agenda/apresentacao-concerto-de-outono-2024/
LOCATION:Parque Jacques Cousteau\, • Rua Augusto José dos Santos\, 590 bairro Betânia\, Belo Horizonte\, Minas Gerais\, 30580-100\, Brasil
CATEGORIES:Apresentação
END:VEVENT
BEGIN:VEVENT
DTSTART;TZID=America/Sao_Paulo:20240519T090000
DTEND;TZID=America/Sao_Paulo:20240519T113000
DTSTAMP:20260424T094418
CREATED:20240130T195101Z
LAST-MODIFIED:20240130T195101Z
UID:1618-1716109200-1716118200@orquestrasagradageracao.org
SUMMARY:Aula Presencial
DESCRIPTION:Aula presencial.
URL:https://orquestrasagradageracao.org/agenda/aula-presencial-10/
LOCATION:Escola Municipal Mestre Ataíde\, • Rua Augusto José dos Santos\, 560 bairro Betânia\, Belo Horizonte\, Minas Gerais\, 30580-100\, Brasil
CATEGORIES:Aula
END:VEVENT
BEGIN:VEVENT
DTSTART;TZID=America/Sao_Paulo:20240519T090000
DTEND;TZID=America/Sao_Paulo:20240519T113000
DTSTAMP:20260424T094418
CREATED:20240130T194829Z
LAST-MODIFIED:20240130T194829Z
UID:1614-1716109200-1716118200@orquestrasagradageracao.org
SUMMARY:Reunião Pedagógica
DESCRIPTION:Reunião pedagógica.
URL:https://orquestrasagradageracao.org/agenda/reuniao-pedagogica-3/
CATEGORIES:Outros
END:VEVENT
BEGIN:VEVENT
DTSTART;TZID=America/Sao_Paulo:20240518T090000
DTEND;TZID=America/Sao_Paulo:20240518T113000
DTSTAMP:20260424T094418
CREATED:20240130T190737Z
LAST-MODIFIED:20240130T190737Z
UID:1602-1716022800-1716031800@orquestrasagradageracao.org
SUMMARY:Aula Virtual de Teoria
DESCRIPTION:Aula virtual de teoria.
URL:https://orquestrasagradageracao.org/agenda/aula-virtual-de-teoria-4/
CATEGORIES:Aula
END:VEVENT
BEGIN:VEVENT
DTSTART;VALUE=DATE:20240512
DTEND;VALUE=DATE:20240513
DTSTAMP:20260424T094418
CREATED:20240130T194942Z
LAST-MODIFIED:20240130T194942Z
UID:1616-1715472000-1715558399@orquestrasagradageracao.org
SUMMARY:Recesso -  Dia das Mães
DESCRIPTION:Recesso – Dia das Mães.
URL:https://orquestrasagradageracao.org/agenda/recesso-dia-das-maes/
CATEGORIES:Feriado
END:VEVENT
BEGIN:VEVENT
DTSTART;TZID=America/Sao_Paulo:20240505T090000
DTEND;TZID=America/Sao_Paulo:20240505T113000
DTSTAMP:20260424T094418
CREATED:20240130T194737Z
LAST-MODIFIED:20240130T194737Z
UID:1612-1714899600-1714908600@orquestrasagradageracao.org
SUMMARY:Reunião Pedagógica
DESCRIPTION:Reunião pedagógica.
URL:https://orquestrasagradageracao.org/agenda/reuniao-pedagogica-2/
CATEGORIES:Outros
END:VEVENT
BEGIN:VEVENT
DTSTART;TZID=America/Sao_Paulo:20240505T090000
DTEND;TZID=America/Sao_Paulo:20240505T113000
DTSTAMP:20260424T094418
CREATED:20240130T194604Z
LAST-MODIFIED:20240130T194604Z
UID:1610-1714899600-1714908600@orquestrasagradageracao.org
SUMMARY:Ensaio Aberto
DESCRIPTION:Ensaio aberto – Primeira apresentação outono.
URL:https://orquestrasagradageracao.org/agenda/ensaio-aberto-5/
LOCATION:Escola Municipal Mestre Ataíde\, • Rua Augusto José dos Santos\, 560 bairro Betânia\, Belo Horizonte\, Minas Gerais\, 30580-100\, Brasil
CATEGORIES:Ensaio
END:VEVENT
BEGIN:VEVENT
DTSTART;TZID=America/Sao_Paulo:20240504T090000
DTEND;TZID=America/Sao_Paulo:20240504T113000
DTSTAMP:20260424T094418
CREATED:20240130T190650Z
LAST-MODIFIED:20240130T190650Z
UID:1600-1714813200-1714822200@orquestrasagradageracao.org
SUMMARY:Aula Virtual de Teoria
DESCRIPTION:Aula virtual de teoria.
URL:https://orquestrasagradageracao.org/agenda/aula-virtual-de-teoria-3/
CATEGORIES:Aula
END:VEVENT
BEGIN:VEVENT
DTSTART;TZID=America/Sao_Paulo:20240428T090000
DTEND;TZID=America/Sao_Paulo:20240428T113000
DTSTAMP:20260424T094418
CREATED:20240130T190206Z
LAST-MODIFIED:20240130T190206Z
UID:1594-1714294800-1714303800@orquestrasagradageracao.org
SUMMARY:Aula Presencial
DESCRIPTION:Aula presencial.
URL:https://orquestrasagradageracao.org/agenda/aula-presencial-9/
LOCATION:Escola Municipal Mestre Ataíde\, • Rua Augusto José dos Santos\, 560 bairro Betânia\, Belo Horizonte\, Minas Gerais\, 30580-100\, Brasil
CATEGORIES:Aula
END:VEVENT
BEGIN:VEVENT
DTSTART;TZID=America/Sao_Paulo:20240421T090000
DTEND;TZID=America/Sao_Paulo:20240421T113000
DTSTAMP:20260424T094418
CREATED:20240130T190105Z
LAST-MODIFIED:20240130T190105Z
UID:1592-1713690000-1713699000@orquestrasagradageracao.org
SUMMARY:Aula Presencial
DESCRIPTION:Aula presencial.
URL:https://orquestrasagradageracao.org/agenda/aula-presencial-8/
LOCATION:Escola Municipal Mestre Ataíde\, • Rua Augusto José dos Santos\, 560 bairro Betânia\, Belo Horizonte\, Minas Gerais\, 30580-100\, Brasil
CATEGORIES:Aula
END:VEVENT
BEGIN:VEVENT
DTSTART;TZID=America/Sao_Paulo:20240420T080000
DTEND;TZID=America/Sao_Paulo:20240420T170000
DTSTAMP:20260424T094418
CREATED:20240130T190447Z
LAST-MODIFIED:20240130T190447Z
UID:1598-1713600000-1713632400@orquestrasagradageracao.org
SUMMARY:Aula Virtual de Teoria
DESCRIPTION:Aula virtual de teoria.
URL:https://orquestrasagradageracao.org/agenda/aula-virtual-de-teoria-2/
CATEGORIES:Aula
END:VEVENT
END:VCALENDAR