BEGIN:VCALENDAR
VERSION:2.0
PRODID:-//Sagrada Geração - ECPv6.15.20//NONSGML v1.0//EN
CALSCALE:GREGORIAN
METHOD:PUBLISH
X-ORIGINAL-URL:https://orquestrasagradageracao.org
X-WR-CALDESC:Eventos para Sagrada Geração
REFRESH-INTERVAL;VALUE=DURATION:PT1H
X-Robots-Tag:noindex
X-PUBLISHED-TTL:PT1H
BEGIN:VTIMEZONE
TZID:America/Sao_Paulo
BEGIN:STANDARD
TZOFFSETFROM:-0300
TZOFFSETTO:-0300
TZNAME:-03
DTSTART:20230101T000000
END:STANDARD
END:VTIMEZONE
BEGIN:VEVENT
DTSTART;TZID=America/Sao_Paulo:20250223T093000
DTEND;TZID=America/Sao_Paulo:20250223T113000
DTSTAMP:20260424T004125
CREATED:20250316T195818Z
LAST-MODIFIED:20250316T195818Z
UID:2537-1740303000-1740310200@orquestrasagradageracao.org
SUMMARY:3° Aula Teórica
DESCRIPTION:3° Aula Teórica
URL:https://orquestrasagradageracao.org/agenda/3-aula-teorica-2/
CATEGORIES:Aula
END:VEVENT
BEGIN:VEVENT
DTSTART;TZID=America/Sao_Paulo:20250216T093000
DTEND;TZID=America/Sao_Paulo:20250216T113000
DTSTAMP:20260424T004125
CREATED:20250316T195301Z
LAST-MODIFIED:20250316T195301Z
UID:2531-1739698200-1739705400@orquestrasagradageracao.org
SUMMARY:Teste Diagnóstico de Violino
DESCRIPTION:Teste Diagnóstico de Violino
URL:https://orquestrasagradageracao.org/agenda/teste-diagnostico-de-violino/
CATEGORIES:Outros
END:VEVENT
BEGIN:VEVENT
DTSTART;TZID=America/Sao_Paulo:20250216T080000
DTEND;TZID=America/Sao_Paulo:20250216T170000
DTSTAMP:20260424T004125
CREATED:20250316T195348Z
LAST-MODIFIED:20250316T195348Z
UID:2533-1739692800-1739725200@orquestrasagradageracao.org
SUMMARY:Primeiro Momento da Orquestra Didática
DESCRIPTION:Primeiro Momento da Orquestra Didática
URL:https://orquestrasagradageracao.org/agenda/primeiro-momento-da-orquestra-didatica/
CATEGORIES:Outros
END:VEVENT
BEGIN:VEVENT
DTSTART;TZID=America/Sao_Paulo:20250216T080000
DTEND;TZID=America/Sao_Paulo:20250216T170000
DTSTAMP:20260424T004125
CREATED:20250316T195216Z
LAST-MODIFIED:20250316T195216Z
UID:2529-1739692800-1739725200@orquestrasagradageracao.org
SUMMARY:Teste Diagnóstico
DESCRIPTION:Teste Diagnóstico
URL:https://orquestrasagradageracao.org/agenda/teste-diagnostico-3/
CATEGORIES:Outros
END:VEVENT
BEGIN:VEVENT
DTSTART;TZID=America/Sao_Paulo:20250216T080000
DTEND;TZID=America/Sao_Paulo:20250216T170000
DTSTAMP:20260424T004125
CREATED:20250316T195121Z
LAST-MODIFIED:20250316T195121Z
UID:2527-1739692800-1739725200@orquestrasagradageracao.org
SUMMARY:Início das Atividades Pedagógicas
DESCRIPTION:Início das Atividades Pedagógicas \n 
URL:https://orquestrasagradageracao.org/agenda/inicio-das-atividades-pedagogicas/
CATEGORIES:Outros
END:VEVENT
BEGIN:VEVENT
DTSTART;TZID=America/Sao_Paulo:20250214T080000
DTEND;TZID=America/Sao_Paulo:20250214T170000
DTSTAMP:20260424T004125
CREATED:20250316T194945Z
LAST-MODIFIED:20250316T194945Z
UID:2525-1739520000-1739552400@orquestrasagradageracao.org
SUMMARY:1° Publicação da Prestaçao de Contas Semestral
DESCRIPTION:1° Publicação da Prestaçao de Contas Semestral
URL:https://orquestrasagradageracao.org/agenda/1-publicacao-da-prestacao-de-contas-semestral-2/
CATEGORIES:Outros
END:VEVENT
BEGIN:VEVENT
DTSTART;TZID=America/Sao_Paulo:20250214T080000
DTEND;TZID=America/Sao_Paulo:20250214T170000
DTSTAMP:20260424T004125
CREATED:20250316T194903Z
LAST-MODIFIED:20250316T194903Z
UID:2523-1739520000-1739552400@orquestrasagradageracao.org
SUMMARY:Encerramento de inscrições e divulgação da lista de inscritos no edital 1/2025
DESCRIPTION:Encerramento de inscrições e divulgação da lista de inscritos no edital 1/2025
URL:https://orquestrasagradageracao.org/agenda/encerramento-de-inscricoes-e-divulgacao-da-lista-de-inscritos-no-edital-1-2025/
CATEGORIES:Outros
END:VEVENT
BEGIN:VEVENT
DTSTART;TZID=America/Sao_Paulo:20250209T093000
DTEND;TZID=America/Sao_Paulo:20250209T113000
DTSTAMP:20260424T004125
CREATED:20250316T192711Z
LAST-MODIFIED:20250316T192711Z
UID:2519-1739093400-1739100600@orquestrasagradageracao.org
SUMMARY:Teste Diagnóstico.
DESCRIPTION:Teste Diagnóstico.
URL:https://orquestrasagradageracao.org/agenda/teste-diagnostico-2/
CATEGORIES:Outros
END:VEVENT
BEGIN:VEVENT
DTSTART;TZID=America/Sao_Paulo:20250209T080000
DTEND;TZID=America/Sao_Paulo:20250209T170000
DTSTAMP:20260424T004125
CREATED:20250316T192752Z
LAST-MODIFIED:20250316T192752Z
UID:2521-1739088000-1739120400@orquestrasagradageracao.org
SUMMARY:Reunião com Comunidade
DESCRIPTION:Reunião com Comunidade
URL:https://orquestrasagradageracao.org/agenda/reuniao-com-comunidade-2/
CATEGORIES:Outros
END:VEVENT
BEGIN:VEVENT
DTSTART;TZID=America/Sao_Paulo:20250206T080000
DTEND;TZID=America/Sao_Paulo:20250206T170000
DTSTAMP:20260424T004125
CREATED:20250316T192322Z
LAST-MODIFIED:20250316T192322Z
UID:2517-1738828800-1738861200@orquestrasagradageracao.org
SUMMARY:Publicação Inscritos até 06/02
DESCRIPTION:Publicação Inscritos até 06/02
URL:https://orquestrasagradageracao.org/agenda/publicacao-inscritos-ate-06-02/
CATEGORIES:Outros
END:VEVENT
BEGIN:VEVENT
DTSTART;TZID=America/Sao_Paulo:20250206T080000
DTEND;TZID=America/Sao_Paulo:20250206T170000
DTSTAMP:20260424T004125
CREATED:20250316T192240Z
LAST-MODIFIED:20250316T192240Z
UID:2515-1738828800-1738861200@orquestrasagradageracao.org
SUMMARY:Prorrogação Inscrição de Alunos
DESCRIPTION:Prorrogação Inscrição de Alunos
URL:https://orquestrasagradageracao.org/agenda/prorrogacao-inscricao-de-alunos/
CATEGORIES:Outros
END:VEVENT
BEGIN:VEVENT
DTSTART;TZID=America/Sao_Paulo:20250206T080000
DTEND;TZID=America/Sao_Paulo:20250206T170000
DTSTAMP:20260424T004125
CREATED:20250316T192151Z
LAST-MODIFIED:20250316T192151Z
UID:2513-1738828800-1738861200@orquestrasagradageracao.org
SUMMARY:Encerramento Inscrição de Alunos
DESCRIPTION:Encerramento Inscrição de Alunos
URL:https://orquestrasagradageracao.org/agenda/encerramento-inscricao-de-alunos/
CATEGORIES:Outros
END:VEVENT
BEGIN:VEVENT
DTSTART;TZID=America/Sao_Paulo:20250101T093000
DTEND;TZID=America/Sao_Paulo:20250101T113000
DTSTAMP:20260424T004125
CREATED:20250316T192008Z
LAST-MODIFIED:20250316T192056Z
UID:2511-1735723800-1735731000@orquestrasagradageracao.org
SUMMARY:1° Reunião de GT de Projetos LMIC e Aldir Blanc
DESCRIPTION:1° Reunião de GT de Projetos LMIC e Aldir Blanc
URL:https://orquestrasagradageracao.org/agenda/1-reuniao-de-gt-de-projetos-lmic-e-aldir-blanc-2/
CATEGORIES:Outros
END:VEVENT
BEGIN:VEVENT
DTSTART;TZID=America/Sao_Paulo:20250101T090000
DTEND;TZID=America/Sao_Paulo:20250101T113000
DTSTAMP:20260424T004125
CREATED:20250316T191851Z
LAST-MODIFIED:20250316T191900Z
UID:2508-1735722000-1735731000@orquestrasagradageracao.org
SUMMARY:1° Reunião Administrativa
DESCRIPTION:1° Reunião administrativa
URL:https://orquestrasagradageracao.org/agenda/1-reuniao-administrativa/
CATEGORIES:Outros
END:VEVENT
BEGIN:VEVENT
DTSTART;VALUE=DATE:20250101
DTEND;VALUE=DATE:20250102
DTSTAMP:20260424T004125
CREATED:20250316T191716Z
LAST-MODIFIED:20250316T191716Z
UID:2506-1735689600-1735775999@orquestrasagradageracao.org
SUMMARY:Abertura Inscrição de Alunos Veteranos Edital 1/2025
DESCRIPTION:Abertura Inscrição de Alunos Veteranos Edital 1/2025
URL:https://orquestrasagradageracao.org/agenda/abertura-inscricao-de-alunos-veteranos-edital-1-2025/
CATEGORIES:Outros
END:VEVENT
BEGIN:VEVENT
DTSTART;TZID=America/Sao_Paulo:20241215T090000
DTEND;TZID=America/Sao_Paulo:20241215T113000
DTSTAMP:20260424T004125
CREATED:20240721T201214Z
LAST-MODIFIED:20240721T201214Z
UID:2124-1734253200-1734262200@orquestrasagradageracao.org
SUMMARY:4° Apresentação e Certificação
DESCRIPTION:4° Apresentação e Certificação
URL:https://orquestrasagradageracao.org/agenda/4-apresentacao-e-certificacao/
CATEGORIES:Apresentação
END:VEVENT
BEGIN:VEVENT
DTSTART;VALUE=DATE:20241215
DTEND;VALUE=DATE:20241216
DTSTAMP:20260424T004125
CREATED:20240721T201410Z
LAST-MODIFIED:20240721T201410Z
UID:2128-1734220800-1734307199@orquestrasagradageracao.org
SUMMARY:Formulário de Satisfação com o Projeto
DESCRIPTION:Formulário de Satisfação com o Projeto
URL:https://orquestrasagradageracao.org/agenda/formulario-de-satisfacao-com-o-projeto/
CATEGORIES:Outros
END:VEVENT
BEGIN:VEVENT
DTSTART;VALUE=DATE:20241215
DTEND;VALUE=DATE:20241216
DTSTAMP:20260424T004125
CREATED:20240721T201312Z
LAST-MODIFIED:20240721T201312Z
UID:2126-1734220800-1734307199@orquestrasagradageracao.org
SUMMARY:2° Publicação da Prestação de Contas Semestral
DESCRIPTION:2° Publicação da Prestação de Contas Semestral
URL:https://orquestrasagradageracao.org/agenda/2-publicacao-da-prestacao-de-contas-semestral/
CATEGORIES:Outros
END:VEVENT
BEGIN:VEVENT
DTSTART;TZID=America/Sao_Paulo:20241208T090000
DTEND;TZID=America/Sao_Paulo:20241208T113000
DTSTAMP:20260424T004125
CREATED:20240721T201129Z
LAST-MODIFIED:20240721T201129Z
UID:2122-1733648400-1733657400@orquestrasagradageracao.org
SUMMARY:16° Aula Presencial e 15° Ensaio da Orquestra Didática
DESCRIPTION:16° Aula Presencial e 15° Ensaio da Orquestra Didática
URL:https://orquestrasagradageracao.org/agenda/16-aula-presencial-e-15-ensaio-da-orquestra-didatica/
CATEGORIES:Aula,Ensaio
END:VEVENT
BEGIN:VEVENT
DTSTART;TZID=America/Sao_Paulo:20241207T090000
DTEND;TZID=America/Sao_Paulo:20241207T113000
DTSTAMP:20260424T004125
CREATED:20240721T201023Z
LAST-MODIFIED:20240721T201023Z
UID:2120-1733562000-1733571000@orquestrasagradageracao.org
SUMMARY:10° Aula Teórica
DESCRIPTION:10° Aula Teórica
URL:https://orquestrasagradageracao.org/agenda/10-aula-teorica/
CATEGORIES:Aula
END:VEVENT
BEGIN:VEVENT
DTSTART;TZID=America/Sao_Paulo:20241201T090000
DTEND;TZID=America/Sao_Paulo:20241201T113000
DTSTAMP:20260424T004125
CREATED:20240721T200931Z
LAST-MODIFIED:20240721T200931Z
UID:2118-1733043600-1733052600@orquestrasagradageracao.org
SUMMARY:5° Reunião Pedagógica e Administrativa
DESCRIPTION:5° Reunião Pedagógica e Administrativa
URL:https://orquestrasagradageracao.org/agenda/5-reuniao-pedagogica-e-administrativa/
CATEGORIES:Outros
END:VEVENT
BEGIN:VEVENT
DTSTART;TZID=America/Sao_Paulo:20241201T090000
DTEND;TZID=America/Sao_Paulo:20241201T113000
DTSTAMP:20260424T004125
CREATED:20240721T200837Z
LAST-MODIFIED:20240721T200837Z
UID:2116-1733043600-1733052600@orquestrasagradageracao.org
SUMMARY:15° Aula Presencial e 14° Ensaio da Orquestra Didática e 5° Oficina Musical
DESCRIPTION:15° Aula Presencial e 14° Ensaio da Orquestra Didática e 5° Oficina Musical
URL:https://orquestrasagradageracao.org/agenda/15-aula-presencial-e-14-ensaio-da-orquestra-didatica-e-5-oficina-musical/
CATEGORIES:Aula,Ensaio
END:VEVENT
BEGIN:VEVENT
DTSTART;TZID=America/Sao_Paulo:20241124T090000
DTEND;TZID=America/Sao_Paulo:20241124T113000
DTSTAMP:20260424T004125
CREATED:20240721T200721Z
LAST-MODIFIED:20240721T200721Z
UID:2114-1732438800-1732447800@orquestrasagradageracao.org
SUMMARY:14° Aula Presencial e 13° Ensaio da Orquestra Didática
DESCRIPTION:14° Aula Presencial e 13° Ensaio da Orquestra Didática
URL:https://orquestrasagradageracao.org/agenda/14-aula-presencial-e-13-ensaio-da-orquestra-didatica/
CATEGORIES:Aula,Ensaio
END:VEVENT
BEGIN:VEVENT
DTSTART;TZID=America/Sao_Paulo:20241123T090000
DTEND;TZID=America/Sao_Paulo:20241123T113000
DTSTAMP:20260424T004125
CREATED:20240721T200620Z
LAST-MODIFIED:20240721T200620Z
UID:2112-1732352400-1732361400@orquestrasagradageracao.org
SUMMARY:9° Aula Teórica
DESCRIPTION:9° Aula Teórica
URL:https://orquestrasagradageracao.org/agenda/9-aula-teorica/
CATEGORIES:Aula
END:VEVENT
BEGIN:VEVENT
DTSTART;VALUE=DATE:20241117
DTEND;VALUE=DATE:20241118
DTSTAMP:20260424T004125
CREATED:20240721T200537Z
LAST-MODIFIED:20240721T200537Z
UID:2110-1731801600-1731887999@orquestrasagradageracao.org
SUMMARY:Recesso Feriado
DESCRIPTION:Recesso Feriado
URL:https://orquestrasagradageracao.org/agenda/recesso-feriado/
CATEGORIES:Feriado
END:VEVENT
BEGIN:VEVENT
DTSTART;TZID=America/Sao_Paulo:20241110T090000
DTEND;TZID=America/Sao_Paulo:20241110T113000
DTSTAMP:20260424T004125
CREATED:20240721T200338Z
LAST-MODIFIED:20240721T200338Z
UID:2108-1731229200-1731238200@orquestrasagradageracao.org
SUMMARY:13° Aula Presencial e 12° Ensaio da Orquestra Didática
DESCRIPTION:13° Aula Presencial e 12° Ensaio da Orquestra Didática
URL:https://orquestrasagradageracao.org/agenda/13-aula-presencial-e-12-ensaio-da-orquestra-didatica-2/
CATEGORIES:Aula,Ensaio
END:VEVENT
BEGIN:VEVENT
DTSTART;TZID=America/Sao_Paulo:20241109T090000
DTEND;TZID=America/Sao_Paulo:20241109T113000
DTSTAMP:20260424T004125
CREATED:20240721T200115Z
LAST-MODIFIED:20240721T200115Z
UID:2104-1731142800-1731151800@orquestrasagradageracao.org
SUMMARY:8° Aula Teórica
DESCRIPTION:8° Aula Teórica
URL:https://orquestrasagradageracao.org/agenda/8-aula-teorica/
CATEGORIES:Aula
END:VEVENT
BEGIN:VEVENT
DTSTART;TZID=America/Sao_Paulo:20241103T090000
DTEND;TZID=America/Sao_Paulo:20241103T113000
DTSTAMP:20260424T004125
CREATED:20240721T200218Z
LAST-MODIFIED:20240721T200218Z
UID:2106-1730624400-1730633400@orquestrasagradageracao.org
SUMMARY:13° Aula Presencial e 12° Ensaio da Orquestra Didática
DESCRIPTION:13° Aula Presencial e 12° Ensaio da Orquestra Didática
URL:https://orquestrasagradageracao.org/agenda/13-aula-presencial-e-12-ensaio-da-orquestra-didatica/
CATEGORIES:Aula,Ensaio
END:VEVENT
BEGIN:VEVENT
DTSTART;TZID=America/Sao_Paulo:20241103T090000
DTEND;TZID=America/Sao_Paulo:20241103T113000
DTSTAMP:20260424T004125
CREATED:20240721T200034Z
LAST-MODIFIED:20240721T200034Z
UID:2102-1730624400-1730633400@orquestrasagradageracao.org
SUMMARY:4° Reunão Pedagógica e Administrativa
DESCRIPTION:4° Reunão Pedagógica e Administrativa
URL:https://orquestrasagradageracao.org/agenda/4-reunao-pedagogica-e-administrativa/
CATEGORIES:Outros
END:VEVENT
BEGIN:VEVENT
DTSTART;TZID=America/Sao_Paulo:20241103T090000
DTEND;TZID=America/Sao_Paulo:20241103T113000
DTSTAMP:20260424T004125
CREATED:20240721T195810Z
LAST-MODIFIED:20240721T195810Z
UID:2100-1730624400-1730633400@orquestrasagradageracao.org
SUMMARY:12° Aula Presencial e 11° Ensaio da Orquestra Didática e 4° Oficina Musical
DESCRIPTION:12° Aula Presencial e 11° Ensaio da Orquestra Didática e 4° Oficina Musical
URL:https://orquestrasagradageracao.org/agenda/12-aula-presencial-e-11-ensaio-da-orquestra-didatica-e-4-oficina-musical/
CATEGORIES:Aula,Ensaio
END:VEVENT
END:VCALENDAR