BEGIN:VCALENDAR
VERSION:2.0
PRODID:-//Sagrada Geração - ECPv6.15.20//NONSGML v1.0//EN
CALSCALE:GREGORIAN
METHOD:PUBLISH
X-ORIGINAL-URL:https://orquestrasagradageracao.org
X-WR-CALDESC:Eventos para Sagrada Geração
REFRESH-INTERVAL;VALUE=DURATION:PT1H
X-Robots-Tag:noindex
X-PUBLISHED-TTL:PT1H
BEGIN:VTIMEZONE
TZID:America/Sao_Paulo
BEGIN:STANDARD
TZOFFSETFROM:-0300
TZOFFSETTO:-0300
TZNAME:-03
DTSTART:20230101T000000
END:STANDARD
END:VTIMEZONE
BEGIN:VEVENT
DTSTART;TZID=America/Sao_Paulo:20241005T090000
DTEND;TZID=America/Sao_Paulo:20241005T113000
DTSTAMP:20260424T062247
CREATED:20240721T194933Z
LAST-MODIFIED:20240721T194933Z
UID:2086-1728118800-1728127800@orquestrasagradageracao.org
SUMMARY:6° Aula Teórica
DESCRIPTION:6° Aula Teórica
URL:https://orquestrasagradageracao.org/agenda/6-aula-teorica/
CATEGORIES:Aula
END:VEVENT
BEGIN:VEVENT
DTSTART;TZID=America/Sao_Paulo:20240929T090000
DTEND;TZID=America/Sao_Paulo:20240929T113000
DTSTAMP:20260424T062247
CREATED:20240721T194839Z
LAST-MODIFIED:20240721T194839Z
UID:2084-1727600400-1727609400@orquestrasagradageracao.org
SUMMARY:8° Aula Presencial e 7° Ensaio da Orquestra Didática
DESCRIPTION:8° Aula Presencial e 7° Ensaio da Orquestra Didática
URL:https://orquestrasagradageracao.org/agenda/8-aula-presencial-e-7-ensaio-da-orquestra-didatica/
CATEGORIES:Aula,Ensaio
END:VEVENT
BEGIN:VEVENT
DTSTART;TZID=America/Sao_Paulo:20240928T090000
DTEND;TZID=America/Sao_Paulo:20240928T113000
DTSTAMP:20260424T062247
CREATED:20240721T194744Z
LAST-MODIFIED:20240721T194744Z
UID:2082-1727514000-1727523000@orquestrasagradageracao.org
SUMMARY:5° Aula Teórica
DESCRIPTION:5° Aula Teórica
URL:https://orquestrasagradageracao.org/agenda/5-aula-teorica/
CATEGORIES:Aula
END:VEVENT
BEGIN:VEVENT
DTSTART;TZID=America/Sao_Paulo:20240922T090000
DTEND;TZID=America/Sao_Paulo:20240922T113000
DTSTAMP:20260424T062247
CREATED:20240721T194639Z
LAST-MODIFIED:20240721T194639Z
UID:2080-1726995600-1727004600@orquestrasagradageracao.org
SUMMARY:1° Reunião com Pais e Comunidade
DESCRIPTION:1° Reunião com Pais e Comunidade
URL:https://orquestrasagradageracao.org/agenda/1-reuniao-com-pais-e-comunidade/
CATEGORIES:Outros
END:VEVENT
BEGIN:VEVENT
DTSTART;TZID=America/Sao_Paulo:20240922T090000
DTEND;TZID=America/Sao_Paulo:20240922T113000
DTSTAMP:20260424T062247
CREATED:20240721T194547Z
LAST-MODIFIED:20240721T194547Z
UID:2078-1726995600-1727004600@orquestrasagradageracao.org
SUMMARY:2° Ensaio Aberto – Concerto Primavera
DESCRIPTION:2° Ensaio Aberto – Concerto Primavera
URL:https://orquestrasagradageracao.org/agenda/2-ensaio-aberto-concerto-primavera/
CATEGORIES:Apresentação,Ensaio
END:VEVENT
BEGIN:VEVENT
DTSTART;TZID=America/Sao_Paulo:20240915T080000
DTEND;TZID=America/Sao_Paulo:20240915T170000
DTSTAMP:20260424T062247
CREATED:20240721T194457Z
LAST-MODIFIED:20240721T194457Z
UID:2076-1726387200-1726419600@orquestrasagradageracao.org
SUMMARY:7° Aula Presencial e 6° Ensaio da Orquestra Didática
DESCRIPTION:7° Aula Presencial e 6° Ensaio da Orquestra Didática
URL:https://orquestrasagradageracao.org/agenda/7-aula-presencial-e-6-ensaio-da-orquestra-didatica/
CATEGORIES:Aula,Ensaio
END:VEVENT
BEGIN:VEVENT
DTSTART;TZID=America/Sao_Paulo:20240914T090000
DTEND;TZID=America/Sao_Paulo:20240914T113000
DTSTAMP:20260424T062247
CREATED:20240721T194409Z
LAST-MODIFIED:20240721T194409Z
UID:2074-1726304400-1726313400@orquestrasagradageracao.org
SUMMARY:4° Aula Teórica
DESCRIPTION:4° Aula Teórica
URL:https://orquestrasagradageracao.org/agenda/4-aula-teorica/
CATEGORIES:Aula
END:VEVENT
BEGIN:VEVENT
DTSTART;TZID=America/Sao_Paulo:20240908T090000
DTEND;TZID=America/Sao_Paulo:20240908T113000
DTSTAMP:20260424T062247
CREATED:20240721T194319Z
LAST-MODIFIED:20240721T194319Z
UID:2072-1725786000-1725795000@orquestrasagradageracao.org
SUMMARY:2° Distribuição de Uniforme
DESCRIPTION:2° Distribuição de Uniforme
URL:https://orquestrasagradageracao.org/agenda/2-distribuicao-de-uniforme/
CATEGORIES:Outros
END:VEVENT
BEGIN:VEVENT
DTSTART;TZID=America/Sao_Paulo:20240908T090000
DTEND;TZID=America/Sao_Paulo:20240908T113000
DTSTAMP:20260424T062247
CREATED:20240721T194234Z
LAST-MODIFIED:20240721T194234Z
UID:2070-1725786000-1725795000@orquestrasagradageracao.org
SUMMARY:6° Aula Presencial e 5° Ensaio da Orquestra Didática e 2° Oficina Musical
DESCRIPTION:6° Aula Presencial e 5° Ensaio da Orquestra Didática e 2° Oficina Musical
URL:https://orquestrasagradageracao.org/agenda/6-aula-presencial-e-5-ensaio-da-orquestra-didatica-e-2-oficina-musical/
CATEGORIES:Aula,Ensaio
END:VEVENT
BEGIN:VEVENT
DTSTART;TZID=America/Sao_Paulo:20240901T090000
DTEND;TZID=America/Sao_Paulo:20240901T113000
DTSTAMP:20260424T062247
CREATED:20240823T223004Z
LAST-MODIFIED:20240823T223004Z
UID:2169-1725181200-1725190200@orquestrasagradageracao.org
SUMMARY:1° Oficina Musical
DESCRIPTION:1° Oficina Musical
URL:https://orquestrasagradageracao.org/agenda/1-oficina-musical/
CATEGORIES:Outros
END:VEVENT
BEGIN:VEVENT
DTSTART;TZID=America/Sao_Paulo:20240901T090000
DTEND;TZID=America/Sao_Paulo:20240901T113000
DTSTAMP:20260424T062247
CREATED:20240721T194017Z
LAST-MODIFIED:20240721T194017Z
UID:2068-1725181200-1725190200@orquestrasagradageracao.org
SUMMARY:2° Reunião Pedagógica e Administrativa
DESCRIPTION:2° Reunião Pedagógica e Administrativa
URL:https://orquestrasagradageracao.org/agenda/2-reuniao-pedagogica-e-administrativa/
CATEGORIES:Outros
END:VEVENT
BEGIN:VEVENT
DTSTART;TZID=America/Sao_Paulo:20240901T090000
DTEND;TZID=America/Sao_Paulo:20240901T113000
DTSTAMP:20260424T062247
CREATED:20240721T193923Z
LAST-MODIFIED:20240721T193923Z
UID:2066-1725181200-1725190200@orquestrasagradageracao.org
SUMMARY:5° Aula Presencial e 4° Ensaio da Orquestra Didática
DESCRIPTION:5° Aula Presencial e 4° Ensaio da Orquestra Didática
URL:https://orquestrasagradageracao.org/agenda/5-aula-presencial-e-4-ensaio-da-orquestra-didatica/
CATEGORIES:Aula,Ensaio
END:VEVENT
BEGIN:VEVENT
DTSTART;TZID=America/Sao_Paulo:20240831T080000
DTEND;TZID=America/Sao_Paulo:20240831T170000
DTSTAMP:20260424T062247
CREATED:20240721T193738Z
LAST-MODIFIED:20240721T193738Z
UID:2064-1725091200-1725123600@orquestrasagradageracao.org
SUMMARY:3° Aula Teórica
DESCRIPTION:3° Aula Teórica
URL:https://orquestrasagradageracao.org/agenda/3-aula-teorica/
CATEGORIES:Aula
END:VEVENT
BEGIN:VEVENT
DTSTART;TZID=America/Sao_Paulo:20240825T090000
DTEND;TZID=America/Sao_Paulo:20240825T113000
DTSTAMP:20260424T062247
CREATED:20240721T193625Z
LAST-MODIFIED:20240721T193625Z
UID:2062-1724576400-1724585400@orquestrasagradageracao.org
SUMMARY:4° Aula Presencial e 3° Ensaio da Orquestra Didática
DESCRIPTION:4° Aula Presencial e 3° Ensaio da Orquestra Didática
URL:https://orquestrasagradageracao.org/agenda/4-aula-presencial-e-3-ensaio-da-orquestra-didatica/
CATEGORIES:Aula,Ensaio
END:VEVENT
BEGIN:VEVENT
DTSTART;TZID=America/Sao_Paulo:20240824T090000
DTEND;TZID=America/Sao_Paulo:20240824T113000
DTSTAMP:20260424T062247
CREATED:20240721T193352Z
LAST-MODIFIED:20240823T222610Z
UID:2058-1724490000-1724499000@orquestrasagradageracao.org
SUMMARY:2° Aula Teórica
DESCRIPTION:2° Aula Teórica
URL:https://orquestrasagradageracao.org/agenda/2-aula-teorica/
CATEGORIES:Aula
END:VEVENT
BEGIN:VEVENT
DTSTART;TZID=America/Sao_Paulo:20240818T090000
DTEND;TZID=America/Sao_Paulo:20240818T113000
DTSTAMP:20260424T062247
CREATED:20240721T193521Z
LAST-MODIFIED:20240823T222905Z
UID:2060-1723971600-1723980600@orquestrasagradageracao.org
SUMMARY:3° Aula Presencial e 2° Ensaio da Orquestra 2° Didática
DESCRIPTION:3° Aula Presencial e 2° Ensaio da Orquestra 2° Didática
URL:https://orquestrasagradageracao.org/agenda/3-aula-presencial-e-2-ensaio-da-orquestra-2-didatica/
CATEGORIES:Aula,Ensaio
END:VEVENT
BEGIN:VEVENT
DTSTART;TZID=America/Sao_Paulo:20240811T100000
DTEND;TZID=America/Sao_Paulo:20240811T113000
DTSTAMP:20260424T062247
CREATED:20240721T193235Z
LAST-MODIFIED:20240721T193235Z
UID:2056-1723370400-1723375800@orquestrasagradageracao.org
SUMMARY:Café dos Pais
DESCRIPTION:Café dos Pais
URL:https://orquestrasagradageracao.org/agenda/cafe-dos-pais/
CATEGORIES:Outros
END:VEVENT
BEGIN:VEVENT
DTSTART;VALUE=DATE:20240811
DTEND;VALUE=DATE:20240812
DTSTAMP:20260424T062247
CREATED:20240721T193111Z
LAST-MODIFIED:20240721T193111Z
UID:2054-1723334400-1723420799@orquestrasagradageracao.org
SUMMARY:2° Aula Presencial e 1° Ensaio da Orquestra Didática
DESCRIPTION:2° Aula Presencial e 1° Ensaio da Orquestra Didática
URL:https://orquestrasagradageracao.org/agenda/2-aula-presencial-e-1-ensaio-da-orquestra-didatica/
CATEGORIES:Aula
END:VEVENT
BEGIN:VEVENT
DTSTART;VALUE=DATE:20240804
DTEND;VALUE=DATE:20240805
DTSTAMP:20260424T062247
CREATED:20240721T192942Z
LAST-MODIFIED:20240721T192942Z
UID:2052-1722729600-1722815999@orquestrasagradageracao.org
SUMMARY:1° Renião Pedagógica e Administrativa
DESCRIPTION:1° Renião Pedagógica e Administrativa
URL:https://orquestrasagradageracao.org/agenda/1-reniao-pedagogica-e-administrativa/
CATEGORIES:Outros
END:VEVENT
BEGIN:VEVENT
DTSTART;VALUE=DATE:20240804
DTEND;VALUE=DATE:20240805
DTSTAMP:20260424T062247
CREATED:20240721T192803Z
LAST-MODIFIED:20240721T192803Z
UID:2050-1722729600-1722815999@orquestrasagradageracao.org
SUMMARY:1° Aula Inaugural e Exame Diagnóstico
DESCRIPTION:1° Aula Inaugural e Exame Diagnóstico
URL:https://orquestrasagradageracao.org/agenda/1-aula-inaugural-e-exame-diagnostico/
CATEGORIES:Aula
END:VEVENT
BEGIN:VEVENT
DTSTART;VALUE=DATE:20240803
DTEND;VALUE=DATE:20240804
DTSTAMP:20260424T062247
CREATED:20240721T192627Z
LAST-MODIFIED:20240721T192627Z
UID:2048-1722643200-1722729599@orquestrasagradageracao.org
SUMMARY:2° Formulário de Expectativa com o Projeto no Semestre
DESCRIPTION:2° Formulário de Expectativa com o Projeto no Semestre
URL:https://orquestrasagradageracao.org/agenda/2-formulario-de-expectativa-com-o-projeto-no-semestre/
CATEGORIES:Outros
END:VEVENT
BEGIN:VEVENT
DTSTART;VALUE=DATE:20240803
DTEND;VALUE=DATE:20240804
DTSTAMP:20260424T062247
CREATED:20240721T192528Z
LAST-MODIFIED:20240721T192528Z
UID:2046-1722643200-1722729599@orquestrasagradageracao.org
SUMMARY:2° Processo de Escolha de Uniforme
DESCRIPTION:2° Processo de Escolha de Uniforme
URL:https://orquestrasagradageracao.org/agenda/2-processo-de-escolha-de-uniforme/
CATEGORIES:Outros
END:VEVENT
BEGIN:VEVENT
DTSTART;VALUE=DATE:20240803
DTEND;VALUE=DATE:20240804
DTSTAMP:20260424T062247
CREATED:20240721T192431Z
LAST-MODIFIED:20240721T192431Z
UID:2044-1722643200-1722729599@orquestrasagradageracao.org
SUMMARY:1°  Aula Teórica
DESCRIPTION:1°  Aula Teórica
URL:https://orquestrasagradageracao.org/agenda/1-aula-teorica/
CATEGORIES:Aula
END:VEVENT
BEGIN:VEVENT
DTSTART;VALUE=DATE:20240726
DTEND;VALUE=DATE:20240727
DTSTAMP:20260424T062247
CREATED:20240721T192218Z
LAST-MODIFIED:20240721T192218Z
UID:2042-1721952000-1722038399@orquestrasagradageracao.org
SUMMARY:1° Publicação da Prestaçao de Contas Semestral
DESCRIPTION:1° Publicação da Prestaçao de Contas Semestral
URL:https://orquestrasagradageracao.org/agenda/1-publicacao-da-prestacao-de-contas-semestral/
CATEGORIES:Outros
END:VEVENT
BEGIN:VEVENT
DTSTART;VALUE=DATE:20240726
DTEND;VALUE=DATE:20240727
DTSTAMP:20260424T062247
CREATED:20240721T191904Z
LAST-MODIFIED:20240721T191904Z
UID:2040-1721952000-1722038399@orquestrasagradageracao.org
SUMMARY:Encerramento de Inscrições e Divulgação da Lista de Inscritos no Edital 2/2024
DESCRIPTION:Encerramento de Inscrições e Divulgação da Lista de Inscritos no Edital 2/2024
URL:https://orquestrasagradageracao.org/agenda/encerramento-de-inscricoes-e-divulgacao-da-lista-de-inscritos-no-edital-2-2024/
CATEGORIES:Outros
END:VEVENT
BEGIN:VEVENT
DTSTART;TZID=America/Sao_Paulo:20240714T090000
DTEND;TZID=America/Sao_Paulo:20240714T113000
DTSTAMP:20260424T062247
CREATED:20240130T201550Z
LAST-MODIFIED:20240130T201629Z
UID:1642-1720947600-1720956600@orquestrasagradageracao.org
SUMMARY:Inscrições 2º Semestre 2024
DESCRIPTION:Início do processo de inscrição segundo semestre.
URL:https://orquestrasagradageracao.org/agenda/inscricoes-2o-semestre-2024/
CATEGORIES:Outros
END:VEVENT
BEGIN:VEVENT
DTSTART;TZID=America/Sao_Paulo:20240714T090000
DTEND;TZID=America/Sao_Paulo:20240714T113000
DTSTAMP:20260424T062247
CREATED:20240130T201212Z
LAST-MODIFIED:20240130T201212Z
UID:1638-1720947600-1720956600@orquestrasagradageracao.org
SUMMARY:Segunda Apresentação - Encerramento
DESCRIPTION:Segunda Apresentação Inverno – Encerramento Semestre.
URL:https://orquestrasagradageracao.org/agenda/segunda-apresentacao-encerramento/
LOCATION:Escola Municipal Mestre Ataíde\, • Rua Augusto José dos Santos\, 560 bairro Betânia\, Belo Horizonte\, Minas Gerais\, 30580-100\, Brasil
CATEGORIES:Apresentação
END:VEVENT
BEGIN:VEVENT
DTSTART;VALUE=DATE:20240714
DTEND;VALUE=DATE:20240715
DTSTAMP:20260424T062247
CREATED:20240130T201349Z
LAST-MODIFIED:20240130T201349Z
UID:1640-1720915200-1721001599@orquestrasagradageracao.org
SUMMARY:Prestação de Contas
DESCRIPTION:Publicação de Prestação de Contas no site.
URL:https://orquestrasagradageracao.org/agenda/prestacao-de-contas/
CATEGORIES:Outros
END:VEVENT
BEGIN:VEVENT
DTSTART;TZID=America/Sao_Paulo:20240707T090000
DTEND;TZID=America/Sao_Paulo:20240707T113000
DTSTAMP:20260424T062247
CREATED:20240130T200456Z
LAST-MODIFIED:20240130T200456Z
UID:1632-1720342800-1720351800@orquestrasagradageracao.org
SUMMARY:Aula Presencial
DESCRIPTION:Aula presencial.
URL:https://orquestrasagradageracao.org/agenda/aula-presencial-17/
LOCATION:Escola Municipal Mestre Ataíde\, • Rua Augusto José dos Santos\, 560 bairro Betânia\, Belo Horizonte\, Minas Gerais\, 30580-100\, Brasil
CATEGORIES:Aula
END:VEVENT
BEGIN:VEVENT
DTSTART;TZID=America/Sao_Paulo:20240630T090000
DTEND;TZID=America/Sao_Paulo:20240630T113000
DTSTAMP:20260424T062247
CREATED:20240130T200401Z
LAST-MODIFIED:20240130T200401Z
UID:1630-1719738000-1719747000@orquestrasagradageracao.org
SUMMARY:Aula Presencial
DESCRIPTION:Aula presencial.
URL:https://orquestrasagradageracao.org/agenda/aula-presencial-16/
LOCATION:Escola Municipal Mestre Ataíde\, • Rua Augusto José dos Santos\, 560 bairro Betânia\, Belo Horizonte\, Minas Gerais\, 30580-100\, Brasil
CATEGORIES:Aula
END:VEVENT
END:VCALENDAR