BEGIN:VCALENDAR
VERSION:2.0
PRODID:-//Sagrada Geração - ECPv6.15.20//NONSGML v1.0//EN
CALSCALE:GREGORIAN
METHOD:PUBLISH
X-ORIGINAL-URL:https://orquestrasagradageracao.org
X-WR-CALDESC:Eventos para Sagrada Geração
REFRESH-INTERVAL;VALUE=DURATION:PT1H
X-Robots-Tag:noindex
X-PUBLISHED-TTL:PT1H
BEGIN:VTIMEZONE
TZID:America/Sao_Paulo
BEGIN:STANDARD
TZOFFSETFROM:-0300
TZOFFSETTO:-0300
TZNAME:-03
DTSTART:20220101T000000
END:STANDARD
END:VTIMEZONE
BEGIN:VEVENT
DTSTART;TZID=America/Sao_Paulo:20230903T090000
DTEND;TZID=America/Sao_Paulo:20230903T113000
DTSTAMP:20260425T174933
CREATED:20230831T013834Z
LAST-MODIFIED:20230831T013834Z
UID:1248-1693731600-1693740600@orquestrasagradageracao.org
SUMMARY:Aulas de Violão\, Violino\, Piano\, Musicalização Infantil\, Flauta Doce\, Flauta Transversal\, Violoncelo
DESCRIPTION:Aulas de Violão\, Violino\, Piano\, Musicalização Infantil\, Flauta doce\, Flauta transversal\, Violoncelo.
URL:https://orquestrasagradageracao.org/agenda/aulas-de-violao-violino-piano-musicalizacao-infantil-flauta-doce-flauta-transversal-violoncelo/
LOCATION:Parque Jacques Cousteau\, • Rua Augusto José dos Santos\, 590 bairro Betânia\, Belo Horizonte\, Minas Gerais\, 30580-100\, Brasil
CATEGORIES:Aula
END:VEVENT
BEGIN:VEVENT
DTSTART;TZID=America/Sao_Paulo:20230903T100000
DTEND;TZID=America/Sao_Paulo:20230903T113000
DTSTAMP:20260425T174933
CREATED:20230831T013447Z
LAST-MODIFIED:20230831T013447Z
UID:1246-1693735200-1693740600@orquestrasagradageracao.org
SUMMARY:Aula Inaugural Alunos Segundo Semestre
DESCRIPTION:Aula inaugural alunos segundo semestre 10:00
URL:https://orquestrasagradageracao.org/agenda/aula-inaugural-alunos-segundo-semestre/
LOCATION:Parque Jacques Cousteau\, • Rua Augusto José dos Santos\, 590 bairro Betânia\, Belo Horizonte\, Minas Gerais\, 30580-100\, Brasil
CATEGORIES:Aula
END:VEVENT
BEGIN:VEVENT
DTSTART;TZID=America/Sao_Paulo:20230903T110000
DTEND;TZID=America/Sao_Paulo:20230903T120000
DTSTAMP:20260425T174933
CREATED:20230831T014227Z
LAST-MODIFIED:20230831T015341Z
UID:1250-1693738800-1693742400@orquestrasagradageracao.org
SUMMARY:Apresentação do Sarau Musical - Alunos 1º Semestre
DESCRIPTION:Apresentação do Sarau Musical com alunos do primeiro semestre. 11:00 horas.\nLocal: frente do galpão do Parque Jacqies Cousteau.
URL:https://orquestrasagradageracao.org/agenda/apresentacao-do-sarau-musical-alunos-1o-semestre/
LOCATION:Parque Jacques Cousteau\, • Rua Augusto José dos Santos\, 590 bairro Betânia\, Belo Horizonte\, Minas Gerais\, 30580-100\, Brasil
CATEGORIES:Apresentação
END:VEVENT
BEGIN:VEVENT
DTSTART;TZID=America/Sao_Paulo:20230906T080000
DTEND;TZID=America/Sao_Paulo:20230906T170000
DTSTAMP:20260425T174933
CREATED:20230905T140909Z
LAST-MODIFIED:20230905T140909Z
UID:1321-1693987200-1694019600@orquestrasagradageracao.org
SUMMARY:Reunião de Equipe Pedagógica
DESCRIPTION:Reunião de Equipe Pedagógica.
URL:https://orquestrasagradageracao.org/agenda/reuniao-de-equipe-pedagogica/
LOCATION:Parque Jacques Cousteau\, • Rua Augusto José dos Santos\, 590 bairro Betânia\, Belo Horizonte\, Minas Gerais\, 30580-100\, Brasil
CATEGORIES:Outros
END:VEVENT
BEGIN:VEVENT
DTSTART;TZID=America/Sao_Paulo:20230910T090000
DTEND;TZID=America/Sao_Paulo:20230910T113000
DTSTAMP:20260425T174933
CREATED:20230831T014937Z
LAST-MODIFIED:20230831T014937Z
UID:1252-1694336400-1694345400@orquestrasagradageracao.org
SUMMARY:Aulas dia 10 de Setembro
DESCRIPTION:Aulas confirmadas:\nViolino (Somente Professor Maic); Violoncelo; Flauta doce e Flauta Transversal.
URL:https://orquestrasagradageracao.org/agenda/aulas-dia-10-de-setembro/
LOCATION:Parque Jacques Cousteau\, • Rua Augusto José dos Santos\, 590 bairro Betânia\, Belo Horizonte\, Minas Gerais\, 30580-100\, Brasil
CATEGORIES:Aula
END:VEVENT
BEGIN:VEVENT
DTSTART;TZID=America/Sao_Paulo:20230910T090000
DTEND;TZID=America/Sao_Paulo:20230910T113000
DTSTAMP:20260425T174933
CREATED:20230831T015201Z
LAST-MODIFIED:20230831T015201Z
UID:1254-1694336400-1694345400@orquestrasagradageracao.org
SUMMARY:Entrega de Camisetas aos Alunos
DESCRIPTION:Entrega de camisetas aos alunos.
URL:https://orquestrasagradageracao.org/agenda/entrega-de-camisetas-aos-alunos/
LOCATION:Parque Jacques Cousteau\, • Rua Augusto José dos Santos\, 590 bairro Betânia\, Belo Horizonte\, Minas Gerais\, 30580-100\, Brasil
CATEGORIES:Outros
END:VEVENT
BEGIN:VEVENT
DTSTART;TZID=America/Sao_Paulo:20230910T090000
DTEND;TZID=America/Sao_Paulo:20230910T113000
DTSTAMP:20260425T174933
CREATED:20230831T015740Z
LAST-MODIFIED:20230831T015740Z
UID:1257-1694336400-1694345400@orquestrasagradageracao.org
SUMMARY:Reunião com Equipe e IDESP - Captação de Recursos
DESCRIPTION:REUNIÃO COM EQUIPE E IDESP PARA FORMALIZAÇÃO DO PROCESSO DE CAPTAÇÃO DE RECURSOS (LEI ROUANET E EMENDA PARLAMENTAR).
URL:https://orquestrasagradageracao.org/agenda/reuniao-com-equipe-e-idesp-captacao-de-recursos/
CATEGORIES:Outros
END:VEVENT
BEGIN:VEVENT
DTSTART;VALUE=DATE:20230917
DTEND;VALUE=DATE:20230918
DTSTAMP:20260425T174933
CREATED:20230831T020947Z
LAST-MODIFIED:20230831T020947Z
UID:1261-1694908800-1694995199@orquestrasagradageracao.org
SUMMARY:Lançamento edital Violão e Flauta
DESCRIPTION:Lançamento edital Violão e Flauta.
URL:https://orquestrasagradageracao.org/agenda/lancamento-edital-violao-e-flauta/
LOCATION:Parque Jacques Cousteau\, • Rua Augusto José dos Santos\, 590 bairro Betânia\, Belo Horizonte\, Minas Gerais\, 30580-100\, Brasil
CATEGORIES:Outros
END:VEVENT
BEGIN:VEVENT
DTSTART;TZID=America/Sao_Paulo:20230917T090000
DTEND;TZID=America/Sao_Paulo:20230917T113000
DTSTAMP:20260425T174933
CREATED:20230831T020834Z
LAST-MODIFIED:20230831T020834Z
UID:1259-1694941200-1694950200@orquestrasagradageracao.org
SUMMARY:Aulas dia 17 de Setembro
DESCRIPTION:Aulas confirmadas:\nViolino; Violoncelo; Flauta doce e Flauta Transversal; Musicalização Infantil.
URL:https://orquestrasagradageracao.org/agenda/aulas-dia-17-de-setembro/
LOCATION:Escola Municipal Mestre Ataíde\, • Rua Augusto José dos Santos\, 560 bairro Betânia\, Belo Horizonte\, Minas Gerais\, 30580-100\, Brasil
CATEGORIES:Apresentação
END:VEVENT
BEGIN:VEVENT
DTSTART;TZID=America/Sao_Paulo:20230924T090000
DTEND;TZID=America/Sao_Paulo:20230924T113000
DTSTAMP:20260425T174933
CREATED:20230831T021124Z
LAST-MODIFIED:20230831T021155Z
UID:1263-1695546000-1695555000@orquestrasagradageracao.org
SUMMARY:Aulas dia 24 de Setembro
DESCRIPTION:Aulas confirmadas: \nViolino; Violoncelo; Flauta doce e Flauta Transversal; Piano.
URL:https://orquestrasagradageracao.org/agenda/aulas-dia-24-de-setembro/
LOCATION:Parque Jacques Cousteau\, • Rua Augusto José dos Santos\, 590 bairro Betânia\, Belo Horizonte\, Minas Gerais\, 30580-100\, Brasil
CATEGORIES:Aula
END:VEVENT
END:VCALENDAR