BEGIN:VCALENDAR
VERSION:2.0
PRODID:-//Sagrada Geração - ECPv6.15.20//NONSGML v1.0//EN
CALSCALE:GREGORIAN
METHOD:PUBLISH
X-WR-CALNAME:Sagrada Geração
X-ORIGINAL-URL:https://orquestrasagradageracao.org
X-WR-CALDESC:Eventos para Sagrada Geração
REFRESH-INTERVAL;VALUE=DURATION:PT1H
X-Robots-Tag:noindex
X-PUBLISHED-TTL:PT1H
BEGIN:VTIMEZONE
TZID:America/Sao_Paulo
BEGIN:STANDARD
TZOFFSETFROM:-0300
TZOFFSETTO:-0300
TZNAME:-03
DTSTART:20220101T000000
END:STANDARD
END:VTIMEZONE
BEGIN:VEVENT
DTSTART;VALUE=DATE:20231203
DTEND;VALUE=DATE:20231204
DTSTAMP:20260425T133635
CREATED:20230831T031835Z
LAST-MODIFIED:20230831T031914Z
UID:1296-1701561600-1701647999@orquestrasagradageracao.org
SUMMARY:Prestação de Contas 2º Semestre
DESCRIPTION:Publicação de prestação de contas do segundo semestre;
URL:https://orquestrasagradageracao.org/agenda/prestacao-de-contas-2o-semestre/
LOCATION:Parque Jacques Cousteau\, • Rua Augusto José dos Santos\, 590 bairro Betânia\, Belo Horizonte\, Minas Gerais\, 30580-100\, Brasil
CATEGORIES:Outros
END:VEVENT
BEGIN:VEVENT
DTSTART;TZID=America/Sao_Paulo:20231203T090000
DTEND;TZID=America/Sao_Paulo:20231203T113000
DTSTAMP:20260425T133635
CREATED:20230831T031700Z
LAST-MODIFIED:20230831T031700Z
UID:1294-1701594000-1701603000@orquestrasagradageracao.org
SUMMARY:Aulas dia 03 de Dezembro
DESCRIPTION:Aulas confirmadas:\nViolino; Violoncelo; Flauta doce e Flauta Transversal; Piano.
URL:https://orquestrasagradageracao.org/agenda/aulas-dia-03-de-dezembro/
LOCATION:Parque Jacques Cousteau\, • Rua Augusto José dos Santos\, 590 bairro Betânia\, Belo Horizonte\, Minas Gerais\, 30580-100\, Brasil
CATEGORIES:Aula
END:VEVENT
BEGIN:VEVENT
DTSTART;TZID=America/Sao_Paulo:20231210T090000
DTEND;TZID=America/Sao_Paulo:20231210T113000
DTSTAMP:20260425T133635
CREATED:20230831T032148Z
LAST-MODIFIED:20230831T032148Z
UID:1298-1702198800-1702207800@orquestrasagradageracao.org
SUMMARY:Aulas dia 10 de Dezembro
DESCRIPTION:Aulas confirmadas: \nViolino; Violoncelo; Flauta doce e Flauta Transversal; Piano.
URL:https://orquestrasagradageracao.org/agenda/aulas-dia-10-de-dezembro/
LOCATION:Parque Jacques Cousteau\, • Rua Augusto José dos Santos\, 590 bairro Betânia\, Belo Horizonte\, Minas Gerais\, 30580-100\, Brasil
CATEGORIES:Aula
END:VEVENT
BEGIN:VEVENT
DTSTART;TZID=America/Sao_Paulo:20231217T090000
DTEND;TZID=America/Sao_Paulo:20231217T113000
DTSTAMP:20260425T133635
CREATED:20230831T032331Z
LAST-MODIFIED:20230831T032331Z
UID:1300-1702803600-1702812600@orquestrasagradageracao.org
SUMMARY:Apresentação final - Confraternização
DESCRIPTION:Apresentação final das turmas. \nConfraternização.
URL:https://orquestrasagradageracao.org/agenda/apresentacao-final-confraternizacao/
LOCATION:Parque Jacques Cousteau\, • Rua Augusto José dos Santos\, 590 bairro Betânia\, Belo Horizonte\, Minas Gerais\, 30580-100\, Brasil
CATEGORIES:Apresentação
END:VEVENT
BEGIN:VEVENT
DTSTART;TZID=America/Sao_Paulo:20231217T090000
DTEND;TZID=America/Sao_Paulo:20231217T113000
DTSTAMP:20260425T133635
CREATED:20230831T032543Z
LAST-MODIFIED:20230831T032543Z
UID:1302-1702803600-1702812600@orquestrasagradageracao.org
SUMMARY:Ultimo dia para Entrega dos Instrumentos Emprestados
DESCRIPTION:ULTIMO DIA PARA ENTREGA DOS INSTRUMENTOS EMPRESTADOS.
URL:https://orquestrasagradageracao.org/agenda/ultimo-dia-para-entrega-dos-instrumentos-emprestados/
LOCATION:Parque Jacques Cousteau\, • Rua Augusto José dos Santos\, 590 bairro Betânia\, Belo Horizonte\, Minas Gerais\, 30580-100\, Brasil
CATEGORIES:Outros
END:VEVENT
BEGIN:VEVENT
DTSTART;VALUE=DATE:20231231
DTEND;VALUE=DATE:20240101
DTSTAMP:20260425T133635
CREATED:20230831T032653Z
LAST-MODIFIED:20230831T032653Z
UID:1304-1703980800-1704067199@orquestrasagradageracao.org
SUMMARY:Fechamento Contábil
DESCRIPTION:Fechamento contábil. Entrega de documentos para Contabilidade.
URL:https://orquestrasagradageracao.org/agenda/fechamento-contabil/
LOCATION:Parque Jacques Cousteau\, • Rua Augusto José dos Santos\, 590 bairro Betânia\, Belo Horizonte\, Minas Gerais\, 30580-100\, Brasil
CATEGORIES:Outros
END:VEVENT
END:VCALENDAR