BEGIN:VCALENDAR
VERSION:2.0
PRODID:-//Sagrada Geração - ECPv6.15.20//NONSGML v1.0//EN
CALSCALE:GREGORIAN
METHOD:PUBLISH
X-WR-CALNAME:Sagrada Geração
X-ORIGINAL-URL:https://orquestrasagradageracao.org
X-WR-CALDESC:Eventos para Sagrada Geração
REFRESH-INTERVAL;VALUE=DURATION:PT1H
X-Robots-Tag:noindex
X-PUBLISHED-TTL:PT1H
BEGIN:VTIMEZONE
TZID:America/Sao_Paulo
BEGIN:STANDARD
TZOFFSETFROM:-0300
TZOFFSETTO:-0300
TZNAME:-03
DTSTART:20230101T000000
END:STANDARD
END:VTIMEZONE
BEGIN:VEVENT
DTSTART;TZID=America/Sao_Paulo:20240117T180000
DTEND;TZID=America/Sao_Paulo:20240117T190000
DTSTAMP:20260425T120358
CREATED:20240130T180834Z
LAST-MODIFIED:20240130T184243Z
UID:1529-1705514400-1705518000@orquestrasagradageracao.org
SUMMARY:Reunião Administrativa
DESCRIPTION:Reunião Administrativa.
URL:https://orquestrasagradageracao.org/agenda/reuniao-administrativa/
CATEGORIES:Outros
END:VEVENT
BEGIN:VEVENT
DTSTART;TZID=America/Sao_Paulo:20240117T190000
DTEND;TZID=America/Sao_Paulo:20240117T193000
DTSTAMP:20260425T120358
CREATED:20240130T184334Z
LAST-MODIFIED:20240130T184334Z
UID:1566-1705518000-1705519800@orquestrasagradageracao.org
SUMMARY:Reunião com a Comunidade
DESCRIPTION:Reunião com a comunidade.
URL:https://orquestrasagradageracao.org/agenda/reuniao-com-a-comunidade/
CATEGORIES:Outros
END:VEVENT
BEGIN:VEVENT
DTSTART;VALUE=DATE:20240120
DTEND;VALUE=DATE:20240121
DTSTAMP:20260425T120358
CREATED:20240130T180949Z
LAST-MODIFIED:20240130T180949Z
UID:1531-1705708800-1705795199@orquestrasagradageracao.org
SUMMARY:Publicação do Edital para Consulta Pública
DESCRIPTION:Publicação do Edital para Consulta Pública
URL:https://orquestrasagradageracao.org/agenda/publicacao-do-edital-para-consulta-publica/
CATEGORIES:Outros
END:VEVENT
BEGIN:VEVENT
DTSTART;VALUE=DATE:20240122
DTEND;VALUE=DATE:20240123
DTSTAMP:20260425T120358
CREATED:20240130T181130Z
LAST-MODIFIED:20240130T181130Z
UID:1533-1705881600-1705967999@orquestrasagradageracao.org
SUMMARY:Inscrição 1º Semestre 2024
DESCRIPTION:Inicio do processo de inscrição para aulas do ano 2024.
URL:https://orquestrasagradageracao.org/agenda/inscricao-1o-semestre-2024/
CATEGORIES:Outros
END:VEVENT
BEGIN:VEVENT
DTSTART;TZID=America/Sao_Paulo:20240125T180000
DTEND;TZID=America/Sao_Paulo:20240125T190000
DTSTAMP:20260425T120358
CREATED:20240130T181254Z
LAST-MODIFIED:20240130T181254Z
UID:1535-1706205600-1706209200@orquestrasagradageracao.org
SUMMARY:Reunião de Diretoria do Projeto
DESCRIPTION:Reunião de Diretoria do Projeto
URL:https://orquestrasagradageracao.org/agenda/reuniao-de-diretoria-do-projeto/
CATEGORIES:Outros
END:VEVENT
BEGIN:VEVENT
DTSTART;TZID=America/Sao_Paulo:20240127T180000
DTEND;TZID=America/Sao_Paulo:20240127T190000
DTSTAMP:20260425T120358
CREATED:20240130T181411Z
LAST-MODIFIED:20240130T181411Z
UID:1537-1706378400-1706382000@orquestrasagradageracao.org
SUMMARY:Reunião de Diretoria Executiva
DESCRIPTION:Reunião de Diretoria Executiva
URL:https://orquestrasagradageracao.org/agenda/reuniao-de-diretoria-executiva/
CATEGORIES:Outros
END:VEVENT
END:VCALENDAR