BEGIN:VCALENDAR
VERSION:2.0
PRODID:-//Sagrada Geração - ECPv6.15.20//NONSGML v1.0//EN
CALSCALE:GREGORIAN
METHOD:PUBLISH
X-ORIGINAL-URL:https://orquestrasagradageracao.org
X-WR-CALDESC:Eventos para Sagrada Geração
REFRESH-INTERVAL;VALUE=DURATION:PT1H
X-Robots-Tag:noindex
X-PUBLISHED-TTL:PT1H
BEGIN:VTIMEZONE
TZID:America/Sao_Paulo
BEGIN:STANDARD
TZOFFSETFROM:-0300
TZOFFSETTO:-0300
TZNAME:-03
DTSTART:20240101T000000
END:STANDARD
END:VTIMEZONE
BEGIN:VEVENT
DTSTART;TZID=America/Sao_Paulo:20250302T093000
DTEND;TZID=America/Sao_Paulo:20250302T113000
DTSTAMP:20260424T111727
CREATED:20250316T200427Z
LAST-MODIFIED:20250316T200427Z
UID:2545-1740907800-1740915000@orquestrasagradageracao.org
SUMMARY:3º Aula Presencial
DESCRIPTION:3º Aula Presencial
URL:https://orquestrasagradageracao.org/agenda/3o-aula-presencial/
CATEGORIES:Aula
END:VEVENT
BEGIN:VEVENT
DTSTART;TZID=America/Sao_Paulo:20250302T093000
DTEND;TZID=America/Sao_Paulo:20250302T113000
DTSTAMP:20260424T111727
CREATED:20250316T200512Z
LAST-MODIFIED:20250316T200512Z
UID:2547-1740907800-1740915000@orquestrasagradageracao.org
SUMMARY:3º Aula Teórica
DESCRIPTION:3º Aula Teórica
URL:https://orquestrasagradageracao.org/agenda/3o-aula-teorica/
CATEGORIES:Aula
END:VEVENT
BEGIN:VEVENT
DTSTART;TZID=America/Sao_Paulo:20250302T093000
DTEND;TZID=America/Sao_Paulo:20250302T113000
DTSTAMP:20260424T111727
CREATED:20250316T200548Z
LAST-MODIFIED:20250316T200548Z
UID:2549-1740907800-1740915000@orquestrasagradageracao.org
SUMMARY:3º Ensaio da Orquestra Didática
DESCRIPTION:3º Ensaio da Orquestra Didática
URL:https://orquestrasagradageracao.org/agenda/3o-ensaio-da-orquestra-didatica/
CATEGORIES:Ensaio
END:VEVENT
BEGIN:VEVENT
DTSTART;TZID=America/Sao_Paulo:20250309T093000
DTEND;TZID=America/Sao_Paulo:20250309T113000
DTSTAMP:20260424T111727
CREATED:20250316T200703Z
LAST-MODIFIED:20250316T200703Z
UID:2551-1741512600-1741519800@orquestrasagradageracao.org
SUMMARY:4º Aula Presencial
DESCRIPTION:4º Aula Presencial
URL:https://orquestrasagradageracao.org/agenda/4o-aula-presencial/
CATEGORIES:Aula
END:VEVENT
BEGIN:VEVENT
DTSTART;TZID=America/Sao_Paulo:20250309T093000
DTEND;TZID=America/Sao_Paulo:20250309T113000
DTSTAMP:20260424T111727
CREATED:20250316T200758Z
LAST-MODIFIED:20250316T200758Z
UID:2553-1741512600-1741519800@orquestrasagradageracao.org
SUMMARY:4º Aula Teórica
DESCRIPTION:4º Aula Teórica
URL:https://orquestrasagradageracao.org/agenda/4o-aula-teorica/
CATEGORIES:Aula
END:VEVENT
BEGIN:VEVENT
DTSTART;TZID=America/Sao_Paulo:20250309T093000
DTEND;TZID=America/Sao_Paulo:20250309T113000
DTSTAMP:20260424T111727
CREATED:20250316T200913Z
LAST-MODIFIED:20250316T200913Z
UID:2555-1741512600-1741519800@orquestrasagradageracao.org
SUMMARY:4º Ensaio da Orquestra Didática
DESCRIPTION:4º Ensaio da Orquestra Didática
URL:https://orquestrasagradageracao.org/agenda/4o-ensaio-da-orquestra-didatica/
CATEGORIES:Ensaio
END:VEVENT
BEGIN:VEVENT
DTSTART;TZID=America/Sao_Paulo:20250309T093000
DTEND;TZID=America/Sao_Paulo:20250309T113000
DTSTAMP:20260424T111727
CREATED:20250316T201029Z
LAST-MODIFIED:20250316T201029Z
UID:2557-1741512600-1741519800@orquestrasagradageracao.org
SUMMARY:2° Formulário de Expectativa com o Projeto no Semestre
DESCRIPTION:2° Formulário de Expectativa com o Projeto no Semestre
URL:https://orquestrasagradageracao.org/agenda/2-formulario-de-expectativa-com-o-projeto-no-semestre-2/
CATEGORIES:Outros
END:VEVENT
BEGIN:VEVENT
DTSTART;TZID=America/Sao_Paulo:20250316T093000
DTEND;TZID=America/Sao_Paulo:20250316T113000
DTSTAMP:20260424T111727
CREATED:20250316T201238Z
LAST-MODIFIED:20250316T201435Z
UID:2561-1742117400-1742124600@orquestrasagradageracao.org
SUMMARY:5º Aula Teórica
DESCRIPTION:5º Aula Teórica
URL:https://orquestrasagradageracao.org/agenda/5o-aula-teorica/
CATEGORIES:Aula
END:VEVENT
BEGIN:VEVENT
DTSTART;TZID=America/Sao_Paulo:20250316T093000
DTEND;TZID=America/Sao_Paulo:20250316T113000
DTSTAMP:20260424T111727
CREATED:20250316T201353Z
LAST-MODIFIED:20250316T201353Z
UID:2563-1742117400-1742124600@orquestrasagradageracao.org
SUMMARY:5º Ensaio da Orquestra Didática
DESCRIPTION:5º Ensaio da Orquestra Didática
URL:https://orquestrasagradageracao.org/agenda/5o-ensaio-da-orquestra-didatica/
CATEGORIES:Ensaio
END:VEVENT
BEGIN:VEVENT
DTSTART;TZID=America/Sao_Paulo:20250316T093000
DTEND;TZID=America/Sao_Paulo:20250316T133000
DTSTAMP:20260424T111727
CREATED:20250316T201159Z
LAST-MODIFIED:20250316T201159Z
UID:2559-1742117400-1742131800@orquestrasagradageracao.org
SUMMARY:5º Aula Presencial
DESCRIPTION:5º Aula Presencial
URL:https://orquestrasagradageracao.org/agenda/5o-aula-presencial/
CATEGORIES:Aula
END:VEVENT
BEGIN:VEVENT
DTSTART;TZID=America/Sao_Paulo:20250323T093000
DTEND;TZID=America/Sao_Paulo:20250323T113000
DTSTAMP:20260424T111727
CREATED:20250316T201548Z
LAST-MODIFIED:20250316T201548Z
UID:2565-1742722200-1742729400@orquestrasagradageracao.org
SUMMARY:6º Ensaio da Orquestra Didática
DESCRIPTION:6º Ensaio da Orquestra Didática
URL:https://orquestrasagradageracao.org/agenda/6o-ensaio-da-orquestra-didatica/
CATEGORIES:Ensaio
END:VEVENT
BEGIN:VEVENT
DTSTART;TZID=America/Sao_Paulo:20250323T093000
DTEND;TZID=America/Sao_Paulo:20250323T113000
DTSTAMP:20260424T111727
CREATED:20250316T201649Z
LAST-MODIFIED:20250316T201911Z
UID:2567-1742722200-1742729400@orquestrasagradageracao.org
SUMMARY:6º Aula Presencial
DESCRIPTION:6º Aula Presencial
URL:https://orquestrasagradageracao.org/agenda/6o-aula-presencial/
CATEGORIES:Aula
END:VEVENT
BEGIN:VEVENT
DTSTART;TZID=America/Sao_Paulo:20250323T093000
DTEND;TZID=America/Sao_Paulo:20250323T113000
DTSTAMP:20260424T111727
CREATED:20250316T201729Z
LAST-MODIFIED:20250316T201729Z
UID:2569-1742722200-1742729400@orquestrasagradageracao.org
SUMMARY:6º Aula Teórica
DESCRIPTION:6º Aula Teórica
URL:https://orquestrasagradageracao.org/agenda/6o-aula-teorica/
CATEGORIES:Aula
END:VEVENT
BEGIN:VEVENT
DTSTART;TZID=America/Sao_Paulo:20250330T093000
DTEND;TZID=America/Sao_Paulo:20250330T113000
DTSTAMP:20260424T111727
CREATED:20250316T202102Z
LAST-MODIFIED:20250316T202102Z
UID:2572-1743327000-1743334200@orquestrasagradageracao.org
SUMMARY:7º Aula Presencial
DESCRIPTION:7º Aula Presencial
URL:https://orquestrasagradageracao.org/agenda/7o-aula-presencial/
CATEGORIES:Aula
END:VEVENT
BEGIN:VEVENT
DTSTART;TZID=America/Sao_Paulo:20250330T093000
DTEND;TZID=America/Sao_Paulo:20250330T113000
DTSTAMP:20260424T111727
CREATED:20250316T202142Z
LAST-MODIFIED:20250316T202142Z
UID:2574-1743327000-1743334200@orquestrasagradageracao.org
SUMMARY:7º Aula Teórica
DESCRIPTION:7º Aula Teórica
URL:https://orquestrasagradageracao.org/agenda/7o-aula-teorica/
CATEGORIES:Aula
END:VEVENT
BEGIN:VEVENT
DTSTART;TZID=America/Sao_Paulo:20250330T093000
DTEND;TZID=America/Sao_Paulo:20250330T113000
DTSTAMP:20260424T111727
CREATED:20250316T202223Z
LAST-MODIFIED:20250316T202223Z
UID:2576-1743327000-1743334200@orquestrasagradageracao.org
SUMMARY:7º Ensaio da Orquestra Didática
DESCRIPTION:7º Ensaio da Orquestra Didática
URL:https://orquestrasagradageracao.org/agenda/7o-ensaio-da-orquestra-didatica/
CATEGORIES:Ensaio
END:VEVENT
END:VCALENDAR