BEGIN:VCALENDAR
VERSION:2.0
PRODID:-//Sagrada Geração - ECPv6.15.20//NONSGML v1.0//EN
CALSCALE:GREGORIAN
METHOD:PUBLISH
X-ORIGINAL-URL:https://orquestrasagradageracao.org
X-WR-CALDESC:Eventos para Sagrada Geração
REFRESH-INTERVAL;VALUE=DURATION:PT1H
X-Robots-Tag:noindex
X-PUBLISHED-TTL:PT1H
BEGIN:VTIMEZONE
TZID:America/Sao_Paulo
BEGIN:STANDARD
TZOFFSETFROM:-0300
TZOFFSETTO:-0300
TZNAME:-03
DTSTART:20250101T000000
END:STANDARD
END:VTIMEZONE
BEGIN:VEVENT
DTSTART;TZID=America/Sao_Paulo:20260301T090000
DTEND;TZID=America/Sao_Paulo:20260301T113000
DTSTAMP:20260423T124540
CREATED:20260327T220720Z
LAST-MODIFIED:20260327T220720Z
UID:3405-1772355600-1772364600@orquestrasagradageracao.org
SUMMARY:Reunião Administrativa
DESCRIPTION:Reunião Administrativa.
URL:https://orquestrasagradageracao.org/agenda/reuniao-administrativa-2/
CATEGORIES:Outros
END:VEVENT
BEGIN:VEVENT
DTSTART;TZID=America/Sao_Paulo:20260308T090000
DTEND;TZID=America/Sao_Paulo:20260308T113000
DTSTAMP:20260423T124540
CREATED:20260327T223454Z
LAST-MODIFIED:20260327T223454Z
UID:3407-1772960400-1772969400@orquestrasagradageracao.org
SUMMARY:Reunião Pedagógica
DESCRIPTION:Reunião Pedagógica.
URL:https://orquestrasagradageracao.org/agenda/reuniao-pedagogica-4/
CATEGORIES:Outros
END:VEVENT
BEGIN:VEVENT
DTSTART;VALUE=DATE:20260329
DTEND;VALUE=DATE:20260330
DTSTAMP:20260423T124540
CREATED:20260327T223604Z
LAST-MODIFIED:20260327T223604Z
UID:3409-1774742400-1774828799@orquestrasagradageracao.org
SUMMARY:Encerramento Inscrições
DESCRIPTION:Encerramento Inscrições.
URL:https://orquestrasagradageracao.org/agenda/encerramento-inscricoes/
CATEGORIES:Outros
END:VEVENT
BEGIN:VEVENT
DTSTART;VALUE=DATE:20260329
DTEND;VALUE=DATE:20260330
DTSTAMP:20260423T124540
CREATED:20260327T223654Z
LAST-MODIFIED:20260327T223654Z
UID:3411-1774742400-1774828799@orquestrasagradageracao.org
SUMMARY:Publicação Lista de Inscritos
DESCRIPTION:Publicação Lista de Inscritos.
URL:https://orquestrasagradageracao.org/agenda/publicacao-lista-de-inscritos/
CATEGORIES:Outros
END:VEVENT
END:VCALENDAR